Workbook
Name _TAB1: 'Table 1'!$B$1:$AK$38
Name _TAB4: 'Table 4'!$C$1:$AL$31
Name CodeRng1: 'Table 1'!$BM$8:$BM$35
Name CodeRng1: 'Table 2A'!$BM$8:$BM$112
Name CodeRng1: 'Table 2B'!$BM$8:$BM$43
Name CodeRng1: 'Table 2C'!$BM$8:$BM$49
Name CodeRng1: 'Table 2D'!$BM$8:$BM$45
Name CodeRng1: 'Table 3A'!$BM$10:$BM$48
Name CodeRng1: 'Table 3B'!$BM$10:$BM$53
Name CodeRng1: 'Table 3C'!$BM$10:$BM$53
Name CodeRng1: 'Table 3D'!$BM$10:$BM$53
Name CodeRng1: 'Table 3E'!$BM$10:$BM$53
Name CodeRng1: 'Table 4'!$BM$8:$BM$38
Name CountryArray: 'Cover page'!$BA$1:$BC$43
Name CountryCode: readme!$B$2
Name COVER: 'Cover page'!$A$1:$N$41
Name DataRng1: 'Table 1'!$E$8:$AJ$35
Name DataRng1: 'Table 2A'!$D$8:$AI$112
Name DataRng1: 'Table 2B'!$D$8:$AI$43
Name DataRng1: 'Table 2C'!$D$8:$AI$49
Name DataRng1: 'Table 2D'!$D$8:$AI$45
Name DataRng1: 'Table 3A'!$D$10:$AI$48
Name DataRng1: 'Table 3B'!$D$10:$AI$53
Name DataRng1: 'Table 3C'!$D$10:$AI$53
Name DataRng1: 'Table 3D'!$D$10:$AI$53
Name DataRng1: 'Table 3E'!$D$10:$AI$53
Name DataRng1: 'Table 4'!$F$8:$AK$38
Name Domain: readme!$B$5
Name FileType: readme!$B$1
Name OK_to_loadQ: readme!$B$3
Name RefVintage: readme!$B$4
Name StatusTable: readme!$A$12:$B$21
Name TAB2A: 'Table 2A'!$A$1:$AL$117
Name TAB2B: 'Table 2B'!$B$1:$AL$48
Name TAB2C: 'Table 2C'!$B$1:$AL$54
Name TAB2D: 'Table 2D'!$B$1:$AL$50
Name TAB3A: 'Table 3B'!$B$2:$AM$62
Name TAB3B: 'Table 3C'!$B$2:$AM$62
Name TAB3C: 'Table 3D'!$B$1:$AM$62
Name TAB3D: 'Table 3E'!$B$1:$AM$63
Name TAB3E: 'Table 3A'!$B$2:$AM$57
Name TimeRng1: 'Table 1'!$E$5:$AJ$5
Name TimeRng1: 'Table 2A'!$D$5:$AI$5
Name TimeRng1: 'Table 2B'!$D$5:$AI$5
Name TimeRng1: 'Table 2C'!$D$5:$AI$5
Name TimeRng1: 'Table 2D'!$D$5:$AI$5
Name TimeRng1: 'Table 3A'!$D$7:$AI$7
Name TimeRng1: 'Table 3B'!$D$7:$AI$7
Name TimeRng1: 'Table 3C'!$D$7:$AI$7
Name TimeRng1: 'Table 3D'!$D$7:$AI$7
Name TimeRng1: 'Table 3E'!$D$7:$AI$7
Name TimeRng1: 'Table 4'!$F$6:$AK$6

Sheet Cover page
N1: =IF(SUM('Table 1'!AL2+'Table 2A'!AN2+'Table 2B'!AN2+'Table 2C'!AN2+'Table 2D'!AN2+'Table 3A'!AN2+'Table 3B'!AN2+'Table 3C'!AN2+'Table 3D'!AN2+'Table 3E'!AN2+'Table 4'!AM2)=0,0,"check sheet vintage!") -> 0 | O1: COVERAGE summary: | Z1: Apr.2025 | BA1: ="Member State: "&BC1 -> Member State: XXXX | BB1: ZZ | BC1: XXXX | BD1: XXXX | BE1: X.XXXX
N2: Apr.2025 | O2: T1 | P2: =IF(COUNTIF('Table 1'!E41:AJ41,"NOT fully completed, pls.fill with L, M or 0")=0,"OK","not fully completed!") -> OK | Q2: T3A | R2: =IF(COUNTIF('Table 3A'!D59:AI59,"NOT fully completed, pls.fill with L, M or 0")=0,"OK","not fully completed!") -> OK | BA2: ="Member State: "&BC2 -> Member State: Belgium | BB2: BE | BC2: Belgium | BD2: October 2024 | BE2: S.2024 | BF2: 2019
O3: T2A | P3: =IF(COUNTIF('Table 2A'!D120:AI120,"NOT fully completed, pls.fill with L, M or 0")=0,"OK","not fully completed!") -> OK | Q3: T3B | R3: =IF(COUNTIF('Table 3B'!D64:AI64,"NOT fully completed, pls.fill with L, M or 0")=0,"OK","not fully completed!") -> OK | BA3: ="Member State: "&BC3 -> Member State: Bulgaria | BB3: BG | BC3: Bulgaria | BD3: April 2025 | BE3: W.2025 | BF3: 2020
C4: Reporting of Government Deficits and Debt Levels | O4: T2B | P4: =IF(COUNTIF('Table 2B'!D51:AI51,"NOT fully completed, pls.fill with L, M or 0")=0,"OK","not fully completed!") -> OK | Q4: T3C | R4: =IF(COUNTIF('Table 3C'!D64:AI64,"NOT fully completed, pls.fill with L, M or 0")=0,"OK","not fully completed!") -> OK | BA4: ="Member State: "&BC4 -> Member State: Czechia | BB4: CZ | BC4: Czechia | BD4: October 2025 | BE4: S.2025 | BF4: 2020
C5: in accordance with Council Regulation (EC) N° 479/2009, as amended by Commission Regulation (EU) No 220/2014 | O5: T2C | P5: =IF(COUNTIF('Table 2C'!D57:AI57,"NOT fully completed, pls.fill with L, M or 0")=0,"OK","not fully completed!") -> OK | Q5: T3D | R5: =IF(COUNTIF('Table 3D'!D64:AI64,"NOT fully completed, pls.fill with L, M or 0")=0,"OK","not fully completed!") -> OK | BA5: ="Member State: "&BC5 -> Member State: Denmark | BB5: DK | BC5: Denmark | BD5: April 2026 | BE5: W.2026 | BF5: 2021
C6: and the Statements contained in the Council minutes of 22/11/1993 | O6: T2D | P6: =IF(COUNTIF('Table 2D'!D53:AI53,"NOT fully completed, pls.fill with L, M or 0")=0,"OK","not fully completed!") -> OK | Q6: T3E | R6: =IF(COUNTIF('Table 3E'!D64:AI64,"NOT fully completed, pls.fill with L, M or 0")=0,"OK","not fully completed!") -> OK | BA6: ="Member State: "&BC6 -> Member State: Germany | BB6: DE | BC6: Germany | BD6: October 2026 | BE6: S.2026 | BF6: 2021
Q7: T4 | R7: =IF(COUNTIF('Table 4'!F44:AK44,"NOT fully completed, pls.fill with L, M or 0")=0,"OK","not fully completed!") -> OK | BA7: ="Member State: "&BC7 -> Member State: Estonia | BB7: EE | BC7: Estonia | BD7: April 2027 | BE7: W.2027 | BF7: =BF5+1 -> 2022
BA8: ="Member State: "&BC8 -> Member State: Ireland | BB8: IE | BC8: Ireland | BD8: October 2027 | BE8: S.2027 | BF8: =BF6+1 -> 2022
BA9: ="Member State: "&BC9 -> Member State: Greece | BB9: EL | BC9: Greece | BD9: April 2028 | BE9: W.2028 | BF9: =BF7+1 -> 2023
C10: Set of reporting tables revised to comply with Council Regulation (EC) N° 479/2009, as amended by Commission Regulation (EU) No 220/2014 | BA10: ="Member State: "&BC10 -> Member State: Spain | BB10: ES | BC10: Spain | BD10: October 2028 | BE10: S.2028 | BF10: =BF8+1 -> 2023
BA11: ="Member State: "&BC11 -> Member State: France | BB11: FR | BC11: France | BD11: April 2029 | BE11: W.2029 | BF11: =BF9+1 -> 2024
BA12: ="Member State: "&BC12 -> Member State: Croatia | BB12: HR | BC12: Croatia | BD12: October 2029 | BE12: S.2029 | BF12: =BF10+1 -> 2024
E13: Member State: Hungary | BA13: ="Member State: "&BC13 -> Member State: Italy | BB13: IT | BC13: Italy | BD13: April 2030 | BE13: W.2030 | BF13: =BF11+1 -> 2025
E14: Date: 10/10/2025 | J14: DD/MM/YYYY | BA14: ="Member State: "&BC14 -> Member State: Cyprus | BB14: CY | BC14: Cyprus | BD14: October 2030 | BE14: S.2030 | BF14: =BF12+1 -> 2025
E15: Notification: | F15: October 2025 | J15: notification in format April/October 20xx | BA15: ="Member State: "&BC15 -> Member State: Latvia | BB15: LV | BC15: Latvia | BD15: April 2031 | BE15: W.2031 | BF15: =BF13+1 -> 2026
E16: The information is to be provided in the cover page only | BA16: ="Member State: "&BC16 -> Member State: Lithuania | BB16: LT | BC16: Lithuania | BD16: October 2031 | BE16: S.2031 | BF16: =BF14+1 -> 2026
BA17: ="Member State: "&BC17 -> Member State: Luxembourg | BB17: LU | BC17: Luxembourg
C18: Table 1: Reporting of government surplus/ deficit and debt levels and provision of associated data. | BA18: ="Member State: "&BC18 -> Member State: Hungary | BB18: HU | BC18: Hungary
BA19: ="Member State: "&BC19 -> Member State: Malta | BB19: MT | BC19: Malta
C20: Tables 2A to 2D: Provision of the data which explain the transition between the national definitions of government balance and the surplus/deficit (B.9) of each government subsector. | BA20: ="Member State: "&BC20 -> Member State: Netherlands | BB20: NL | BC20: Netherlands
BA21: ="Member State: "&BC21 -> Member State: Austria | BB21: AT | BC21: Austria
BA22: ="Member State: "&BC22 -> Member State: Poland | BB22: PL | BC22: Poland
C23: Tables 3A to 3E: Provision of the data which explain the contributions of the government surplus/deficit and the other relevant factors to the variation in the government debt level, and the consolidation of debt (general government and general government subsectors). | BA23: ="Member State: "&BC23 -> Member State: Portugal | BB23: PT | BC23: Portugal
BA24: ="Member State: "&BC24 -> Member State: Romania | BB24: RO | BC24: Romania
BA25: ="Member State: "&BC25 -> Member State: Slovenia | BB25: SI | BC25: Slovenia
C26: Table 4: Provision of other data in accordance with the statements contained in the Council minutes of 22/11/1993. | BA26: ="Member State: "&BC26 -> Member State: Slovakia | BB26: SK | BC26: Slovakia
BA27: ="Member State: "&BC27 -> Member State: Finland | BB27: FI | BC27: Finland
C28: Yellow and red cells: compulsory detail; green cells: automatic compilation; blue cells: voluntary detail. | BA28: ="Member State: "&BC28 -> Member State: Sweden | BB28: SE | BC28: Sweden
C29: Grey cells: years that are not yet subject to the reporting of historical EDP data - please do not fill these cells
C30: Not applicable: M; Not available: L | BA30: =BC30 -> Iceland | BB30: IS | BC30: Iceland
C31: For all "vertical and horizontal checks" cells is used "Comma Style" Format. Thus, cell which is equal to "0.00" (zero) is shown as "-". Also 1000 separator is used. | BA31: =BC31 -> Liechtenstein | BB31: LI | BC31: Liechtenstein
BA32: =BC32 -> Norway | BB32: NO | BC32: Norway
BA33: =BC33 -> Switzerland | BB33: CH | BC33: Switzerland
BA34: =BC34 -> Albania | BB34: AL | BC34: Albania
BA35: =BC35 -> Republic of North Macedonia | BB35: MK | BC35: Republic of North Macedonia
BA36: =BC36 -> Moldova | BB36: MD | BC36: Moldova
BA37: =BC37 -> Montenegro | BB37: ME | BC37: Montenegro
BA38: =BC38 -> Serbia | BB38: RS | BC38: Serbia
BA39: Türkiye | BB39: TR | BC39: Türkiye
BA40: Ukraine | BB40: UA | BC40: Ukraine
...

Sheet readme
A1: Type | B1: histo | C1: << e.g. Histo, quest, notif (only used in the output csv filename)
A2: Country code | B2: =VLOOKUP('Cover page'!$E$13,CountryArray,2,FALSE) -> HU | C2: << this must correspond to the country code in the filename! If ok, it is used for Fame codes. If not, loading does not proceed
A3: OK to load? | B3: =IF( COUNTIF('Cover page'!$P$2:$R$7,"not fully completed*") > 0, "no", "yes") -> yes | C3: << this can be any kind of check, if "yes", loading will proceed
A4: Vintage | B4: =VLOOKUP('Cover page'!F15,'Cover page'!BD1:BE16,2,FALSE) -> S.2025 | C4: << Named "RefVintage", these are used for Fame codes to be loaded, enough to change before each notification
A5: Domain | B5: EDP | C5: << domain name
A8: Note: | B8: "Vintage" is used internally in this workbook (for creating the formulas), the remaining parameters are used by the macro "FameLoader"
A11: This is used for qualitative information regarding availability / status of the data (if error, use -1):
A12: (1) | B12: 0
A13: estimated | B13: 1
A14: half-finalized | B14: 2
A15: final | B15: 3
A16: planned | B16: 4
A17: forecast | B17: 5
A18: cash | B18: 10
A19: accrual | B19: 11
A20: mixed | B20: 12
A21: other | B21: 13

Sheet Table 1
C1: Table 1: Reporting of government surplus/ deficit and debt levels and provision of associated data | AL1: Apr.2025 | AM1: estimated | AN1: 4 | AO1: 5 | AP1: 6 | AQ1: 7 | AR1: =AQ1+1 -> 8 | AS1: =AR1+1 -> 9 | AT1: =AS1+1 -> 10 | AU1: =AT1+1 -> 11 | AV1: =AU1+1 -> 12 | AW1: =AV1+1 -> 13 | AX1: =AW1+1 -> 14 | AY1: =AX1+1 -> 15 | ... BC1: =BB1+1 -> 19
AL2: =IF($AL$1='Cover page'!$N$2,0,1) -> 0 | AM2: half-finalized
AM3: final
C4: ='Cover page'!E13 -> Member State: Hungary | E4: Year
B5: SDMX series | C5: Data are in ...(millions of units of national currency) | D5: ESA 2010 | E5: =1995 -> 1995 | F5: =IF(VLOOKUP('Cover page'!$F$15,'Cover page'!$BD$1:$BF$15,3,FALSE)<E42+1,"",E42+1) -> 1996 | G5: =IF(VLOOKUP('Cover page'!$F$15,'Cover page'!$BD$1:$BF$15,3,FALSE)<F42+1,"",F42+1) -> 1997 | H5: =IF(VLOOKUP('Cover page'!$F$15,'Cover page'!$BD$1:$BF$15,3,FALSE)<G42+1,"",G42+1) -> 1998 | I5: =IF(VLOOKUP('Cover page'!$F$15,'Cover page'!$BD$1:$BF$15,3,FALSE)<H42+1,"",H42+1) -> 1999 | J5: =IF(VLOOKUP('Cover page'!$F$15,'Cover page'!$BD$1:$BF$15,3,FALSE)<I42+1,"",I42+1) -> 2000 | K5: =IF(VLOOKUP('Cover page'!$F$15,'Cover page'!$BD$1:$BF$15,3,FALSE)<J42+1,"",J42+1) -> 2001 | L5: =IF(VLOOKUP('Cover page'!$F$15,'Cover page'!$BD$1:$BF$15,3,FALSE)<K42+1,"",K42+1) -> 2002 | M5: =IF(VLOOKUP('Cover page'!$F$15,'Cover page'!$BD$1:$BF$15,3,FALSE)<L42+1,"",L42+1) -> 2003 | ... AJ5: =IF(VLOOKUP('Cover page'!$F$15,'Cover page'!$BD$1:$BF$15,3,FALSE)<AI42+1,"",AI42+1)
C6: ='Cover page'!E14 -> Date: 10/10/2025 | D6: codes
E8: final | F8: final | G8: final | H8: final | I8: final | J8: final | K8: final | L8: final | M8: final | N8: final | O8: final | P8: final | Q8: final | R8: final | S8: final | T8: final | U8: final | V8: final | W8: final | X8: final | Y8: final | Z8: final | AA8: final | AB8: final | AC8: final | AD8: final | AE8: (1) | AF8: (1) | AG8: (1) | AH8: (1) | AI8: (1) | AJ8: (1)
C9: Net lending (+)/ net borrowing (-) | D9: B.9 | E9: =IFERROR(VLOOKUP(E8,StatusTable,2,FALSE), -1) -> 3 | F9: =IFERROR(VLOOKUP(F8,StatusTable,2,FALSE), -1) -> 3 | G9: =IFERROR(VLOOKUP(G8,StatusTable,2,FALSE), -1) -> 3 | H9: =IFERROR(VLOOKUP(H8,StatusTable,2,FALSE), -1) -> 3 | I9: =IFERROR(VLOOKUP(I8,StatusTable,2,FALSE), -1) -> 3 | J9: =IFERROR(VLOOKUP(J8,StatusTable,2,FALSE), -1) -> 3 | K9: =IFERROR(VLOOKUP(K8,StatusTable,2,FALSE), -1) -> 3 | L9: =IFERROR(VLOOKUP(L8,StatusTable,2,FALSE), -1) -> 3 | ... AD9: =IFERROR(VLOOKUP(AD8,StatusTable,2,FALSE), -1) -> 3 | BM9: =CountryCode & ".T1.B9_STATUS.S13.MNAC." & RefVintage -> HU.T1.B9_STATUS.S13.MNAC.S.2025
A10: T1.B9.S13 | B10: A.N.@@._Z.S13._Z._Z.B.B9._Z._Z._Z.XDC._T.S.V.N._T.EDP1 | C10: General government | D10: S.13 | E10: -501876.34 | F10: -311702 | G10: -490380.84 | H10: -775309.61 | I10: -614070 | J10: -405236 | K10: -615856 | L10: -1533781 | M10: -1374123 | N10: -1391280 | O10: -1757625.6 | P10: -2254329 | Q10: -1308462 | R10: -1030748 | S10: -1259676 | T10: -1216741 | U10: -1487238 | V10: -673987.24 | W10: -788385.5 | X10: -910277.89 | Y10: -700702.18 | Z10: -650577.75 | AA10: -965670.15 | AB10: -891319.13 | AC10: -970454.92 | AD10: -3654169.2 | BM10: =CountryCode & ".T1.B9.S13.MNAC." & RefVintage -> HU.T1.B9.S13.MNAC.S.2025
A11: T1.B9.S1311 | B11: A.N.@@._Z.S1311._Z._Z.B.B9._Z._Z._Z.XDC._T.S.V.N._T.EDP1 | C11: - Central government | D11: S.1311 | E11: -509787.34 | F11: -380270 | G11: -497292.84 | H11: -708854.61 | I11: -595541 | J11: -354854 | K11: -703875 | L11: -1332869 | M11: -1102996 | N11: -1270681 | O11: -1599693 | P11: -2439617 | Q11: -1456874 | R11: -968598 | S11: -1046412 | T11: -1032846 | U11: -1664946 | V11: -809602.24 | W11: -1676570.5 | X11: -1394670.2 | Y11: -761145.65 | Z11: -717925.9 | AA11: -950327.26 | AB11: -997878.58 | AC11: -790839.66 | AD11: -3249169.4 | BM11: =CountryCode & ".T1.B9.S1311.MNAC." & RefVintage -> HU.T1.B9.S1311.MNAC.S.2025
A12: T1.B9.S1312 | B12: A.N.@@._Z.S1312._Z._Z.B.B9._Z._Z._Z.XDC._T.S.V.N._T.EDP1 | C12: - State government | D12: S.1312 | E12: M | F12: M | G12: M | H12: M | I12: M | J12: M | K12: M | L12: M | M12: M | N12: M | O12: M | P12: M | Q12: M | R12: M | S12: M | T12: M | U12: M | V12: M | W12: M | X12: M | Y12: M | Z12: M | AA12: M | AB12: M | AC12: M | AD12: M | BM12: =CountryCode & ".T1.B9.S1312.MNAC." & RefVintage -> HU.T1.B9.S1312.MNAC.S.2025
A13: T1.B9.S1313 | B13: A.N.@@._Z.S1313._Z._Z.B.B9._Z._Z._Z.XDC._T.S.V.N._T.EDP1 | C13: - Local government | D13: S.1313 | E13: 7797 | F13: 26976 | G13: -1808 | H13: -31033 | I13: 252 | J13: -35845 | K13: 17530 | L13: -149560 | M13: -29272 | N13: -58927 | O13: -120609.62 | P13: -191665 | Q13: -28761 | R13: 18346 | S13: -103345 | T13: -231019 | U13: 169981 | V13: 139700 | W13: 751396 | X13: 441853.82 | Y13: 57546.036 | Z13: 103176.97 | AA13: 20538.153 | AB13: 29947 | AC13: -42989.258 | AD13: 51203.03 | BM13: =CountryCode & ".T1.B9.S1313.MNAC." & RefVintage -> HU.T1.B9.S1313.MNAC.S.2025
A14: T1.B9.S1314 | B14: A.N.@@._Z.S1314._Z._Z.B.B9._Z._Z._Z.XDC._T.S.V.N._T.EDP1 | C14: - Social security funds | D14: S.1314 | E14: 114 | F14: 41592 | G14: 8720 | H14: -35422 | I14: -18781 | J14: -14537.003 | K14: 70489 | L14: -51352 | M14: -241855 | N14: -61672 | O14: -37323 | P14: 376953 | Q14: 177173 | R14: -80496 | S14: -109919 | T14: 47124 | U14: 7727 | V14: -4085 | W14: 136789 | X14: 42538.5 | Y14: 2897.436 | Z14: -35828.824 | AA14: -35881.042 | AB14: 76612.451 | AC14: -136626 | AD14: -456202.86 | BM14: =CountryCode & ".T1.B9.S1314.MNAC." & RefVintage -> HU.T1.B9.S1314.MNAC.S.2025
E16: final | F16: final | G16: final | H16: final | I16: final | J16: final | K16: final | L16: final | M16: final | N16: final | O16: final | P16: final | Q16: final | R16: final | S16: final | T16: final | U16: final | V16: final | W16: final | X16: final | Y16: final | Z16: final | AA16: final | AB16: final | AC16: final | AD16: final | AE16: (1) | AF16: (1) | AG16: (1) | AH16: (1) | AI16: (1) | AJ16: (1)
C17: General government consolidated gross debt | E17: =IFERROR(VLOOKUP(E16,StatusTable,2,FALSE), -1) -> 3 | F17: =IFERROR(VLOOKUP(F16,StatusTable,2,FALSE), -1) -> 3 | G17: =IFERROR(VLOOKUP(G16,StatusTable,2,FALSE), -1) -> 3 | H17: =IFERROR(VLOOKUP(H16,StatusTable,2,FALSE), -1) -> 3 | I17: =IFERROR(VLOOKUP(I16,StatusTable,2,FALSE), -1) -> 3 | J17: =IFERROR(VLOOKUP(J16,StatusTable,2,FALSE), -1) -> 3 | K17: =IFERROR(VLOOKUP(K16,StatusTable,2,FALSE), -1) -> 3 | L17: =IFERROR(VLOOKUP(L16,StatusTable,2,FALSE), -1) -> 3 | ... AD17: =IFERROR(VLOOKUP(AD16,StatusTable,2,FALSE), -1) -> 3 | BM17: =CountryCode & ".T1.DEBT_STATUS.S13.MNAC." & RefVintage -> HU.T1.DEBT_STATUS.S13.MNAC.S.2025
A18: T1.DEBT.S13 | B18: A.N.@@._Z.S13._Z.C.L.LE.GD.T._Z.XDC._T.F.V.N._T.EDP1 | C18: Level at nominal value outstanding at end of year | E18: =E20+E21+E24 -> 4910985 | F18: =F20+F21+F24 -> 5087831 | G18: =G20+G21+G24 -> 5506525 | H18: =H20+H21+H24 -> 6319828 | I18: =I20+I21+I24 -> 7029460 | J18: =J20+J21+J24 -> 7422219 | K18: =K20+K21+K24 -> 8046338 | L18: =L20+L21+L24 -> 9689629 | ... AD18: =AD20+AD21+AD24 -> 38405172 | BM18: =CountryCode & ".T1.DEBT.S13.MNAC." & RefVintage -> HU.T1.DEBT.S13.MNAC.S.2025
C19: By category:
A20: T1.AF2.S13 | B20: A.N.@@._Z.S13._Z.C.L.LE.F2.T._Z.XDC._T.F.V.N._T.EDP1 | C20: Currency and deposits | D20: AF.2 | E20: 460 | F20: 5900 | G20: 22600 | H20: 19611 | I20: 19462 | J20: 23064 | K20: 36286 | L20: 37331 | M20: 18938 | N20: 43495 | O20: 33082 | P20: 24663 | Q20: 36761 | R20: 43062 | S20: 16626 | T20: 23689 | U20: 23358 | V20: 34249 | W20: 68600 | X20: 66175 | Y20: 164762 | Z20: 180782 | AA20: 148085 | AB20: 176317 | AC20: 200826 | AD20: 350007 | BM20: =CountryCode & ".T1.AF2.S13.MNAC." & RefVintage -> HU.T1.AF2.S13.MNAC.S.2025
A21: T1.AF3.S13 | B21: A.N.@@._Z.S13._Z.C.L.LE.F3.T._Z.XDC._T.F.V.N._T.EDP1 | C21: Debt securities | D21: AF.3 | E21: 1708346 | F21: 2499053 | G21: 2651536 | H21: 3306034 | I21: 4473679 | J21: 5107730 | K21: 6062645 | L21: 7460026 | M21: 9307565 | N21: 10799339 | O21: 12085981 | P21: 13663955 | Q21: 14955654 | R21: 15750305 | S21: 15032831 | T21: 15711907 | U21: 16232980 | V21: 17302248 | W21: 19070632 | X21: 21304344 | Y21: 22204069 | Z21: 23225407 | AA21: 24847204 | AB21: 26381435 | AC21: 27146642 | AD21: 33228016 | BM21: =CountryCode & ".T1.AF3.S13.MNAC." & RefVintage -> HU.T1.AF3.S13.MNAC.S.2025
A22: T1.AF31.S13 | B22: A.N.@@._Z.S13._Z.C.L.LE.F3.S._Z.XDC._T.F.V.N._T.EDP1 | C22: Short-term | D22: AF.31 | E22: 465427 | F22: 750870 | G22: 920252 | H22: 1052638 | I22: 1251416 | J22: 1241678 | K22: 1494431 | L22: 1944942 | M22: 2046137 | N22: 2033012 | O22: 2043248 | P22: 2368653 | Q22: 2135417 | R22: 1951030 | S22: 2020031 | T22: 1861544 | U22: 1800734 | V22: 2597490 | W22: 3171946 | X22: 2975024 | Y22: 3019071 | Z22: 4039412 | AA22: 4683132 | AB22: 4934604 | AC22: 3101859 | AD22: 2011263 | BM22: =CountryCode & ".T1.AF31.S13.MNAC." & RefVintage -> HU.T1.AF31.S13.MNAC.S.2025
A23: T1.AF32.S13 | B23: A.N.@@._Z.S13._Z.C.L.LE.F3.L._Z.XDC._T.F.V.N._T.EDP1 | C23: Long-term | D23: AF.32 | E23: 1242919 | F23: 1748183 | G23: 1731284 | H23: 2253396 | I23: 3222263 | J23: 3866052 | K23: 4568214 | L23: 5515084 | M23: 7261428 | N23: 8766327 | O23: 10042733 | P23: 11295302 | Q23: 12820237 | R23: 13799275 | S23: 13012800 | T23: 13850363 | U23: 14432246 | V23: 14704758 | W23: 15898686 | X23: 18329320 | Y23: 19184998 | Z23: 19185995 | AA23: 20164072 | AB23: 21446831 | AC23: 24044783 | AD23: 31216753 | BM23: =CountryCode & ".T1.AF32.S13.MNAC." & RefVintage -> HU.T1.AF32.S13.MNAC.S.2025
A24: T1.AF4.S13 | B24: A.N.@@._Z.S13._Z.C.L.LE.F4.T._Z.XDC._T.F.V.N._T.EDP1 | C24: Loans | D24: AF.4 | E24: 3202179 | F24: 2582878 | G24: 2832389 | H24: 2994183 | I24: 2536319 | J24: 2291425 | K24: 1947407 | L24: 2192272 | M24: 1789928 | N24: 1579894 | O24: 1555034 | P24: 1996350 | Q24: 1881472 | R24: 3760357 | S24: 5645283 | T24: 6254268 | U24: 6670759 | V24: 5325734 | W24: 4291969 | X24: 3738842 | Y24: 4123070 | Z24: 3699137 | AA24: 3327224 | AB24: 3414427 | AC24: 3808308 | AD24: 4827149 | BM24: =CountryCode & ".T1.AF4.S13.MNAC." & RefVintage -> HU.T1.AF4.S13.MNAC.S.2025
A25: T1.AF41.S13 | B25: A.N.@@._Z.S13._Z.C.L.LE.F4.S._Z.XDC._T.F.V.N._T.EDP1 | C25: Short-term | D25: AF.41 | E25: 36371 | F25: 22236 | G25: 48523 | H25: 46915 | I25: 52633 | J25: 69829 | K25: 75778 | L25: 146068 | M25: 117562 | N25: 137229 | O25: 110259 | P25: 144602 | Q25: 178692 | R25: 213604 | S25: 194455 | T25: 458364 | U25: 653595 | V25: 514994 | W25: 253868 | X25: 408899 | Y25: 838117 | Z25: 809353 | AA25: 365462 | AB25: 294133 | AC25: 305472 | AD25: 796231 | BM25: =CountryCode & ".T1.AF41.S13.MNAC." & RefVintage -> HU.T1.AF41.S13.MNAC.S.2025
A26: T1.AF42.S13 | B26: A.N.@@._Z.S13._Z.C.L.LE.F4.L._Z.XDC._T.F.V.N._T.EDP1 | C26: Long-term | D26: AF.42 | E26: 3165808 | F26: 2560642 | G26: 2783866 | H26: 2947268 | I26: 2483686 | J26: 2221596 | K26: 1871629 | L26: 2046204 | M26: 1672366 | N26: 1442665 | O26: 1444775 | P26: 1851748 | Q26: 1702780 | R26: 3546753 | S26: 5450828 | T26: 5795904 | U26: 6017164 | V26: 4810740 | W26: 4038101 | X26: 3329943 | Y26: 3284953 | Z26: 2889784 | AA26: 2961762 | AB26: 3120294 | AC26: 3502836 | AD26: 4030918 | BM26: =CountryCode & ".T1.AF42.S13.MNAC." & RefVintage -> HU.T1.AF42.S13.MNAC.S.2025
C30: General government expenditure on:
A31: T1.P51.S13 | B31: A.N.@@._Z.S13._Z._Z.D.P51G._Z.T._Z.XDC._T.S.V.N._T.EDP1 | C31: Gross fixed capital formation | D31: P.51g | E31: 32771.341 | F31: 134351 | G31: 256669.84 | H31: 367320 | I31: 391414 | J31: 474622 | K31: 603660 | L31: 894534 | M31: 721894 | N31: 800146 | O31: 938226 | P31: 1244256 | Q31: 1087857 | R31: 868936 | S31: 905164 | T31: 995609 | U31: 945642 | V31: 1071355 | W31: 1321490 | X31: 1747308 | Y31: 2279316.6 | Z31: 1143052.1 | AA31: 1780891 | AB31: 2515750.5 | AC31: 2982958.1 | AD31: 3129239.9 | BM31: =CountryCode & ".T1.P51.S13.MNAC." & RefVintage -> HU.T1.P51.S13.MNAC.S.2025
A32: T1.ESAD41.S13 | B32: A.N.@@._Z.S13._Z.C.D.D41._Z._Z._Z.XDC._T.S.V.N._T.EDP1 | C32: Interest (consolidated) | D32: D.41 (uses) | E32: 510576 | F32: 644480 | G32: 745950 | H32: 737528 | I32: 779384 | J32: 704253 | K32: 724255 | L32: 697569 | M32: 770625 | N32: 913812 | O32: 916575 | P32: 935718 | Q32: 1037437 | R32: 1105420 | S32: 1193945 | T32: 1124042 | U32: 1179821 | V32: 1319575 | W32: 1368755 | X32: 1300103.4 | Y32: 1202901.8 | Z32: 1118058.7 | AA32: 1039647.6 | AB32: 1011197.9 | AC32: 1060835 | AD32: 1127289.9 | BM32: =CountryCode & ".T1.ESAD41.S13.MNAC." & RefVintage -> HU.T1.ESAD41.S13.MNAC.S.2025
A35: T1.GDP.S1 | B35: A.N.@@._Z.S1._Z._Z.B.B1GQ._Z.T._Z.XDC._T.S.V.N._T.EDP1 | C35: Gross domestic product at current market prices | D35: B.1*g | E35: 5855584 | F35: 7149020 | G35: 8853540 | H35: 10459461 | I35: 11658136 | J35: 13340291 | K35: 15413047 | L35: 17440963 | M35: 19108793 | N35: 21088678 | O35: 22572429 | P35: 24321949 | Q35: 25730258 | R35: 27233189 | S35: 26467800 | T35: 27427573 | U35: 28492068 | V35: 28919193 | W35: 30343344 | X35: 32826770 | Y35: 34984755 | Z35: 36311882 | AA35: 39335929 | AB35: 43553984 | AC35: 47940496 | AD35: 48807766 | BM35: =CountryCode & ".T1.GDP.S1.MNAC." & RefVintage -> HU.T1.GDP.S1.MNAC.S.2025
C36: (1) Please indicate status of data: estimated, half-finalized, final. | T36: =T10/T35*100 -> -4.4361964 | U36: =U10/U35*100 -> -5.2198317 | V36: =V10/V35*100 -> -2.330588 | W36: =W10/W35*100 -> -2.5982156 | X36: =X10/X35*100 -> -2.7729743 | Y36: =Y10/Y35*100 -> -2.0028786 | Z36: =Z10/Z35*100 -> -1.7916388 | AA36: =AA10/AA35*100 -> -2.4549316 | ... AD36: =AD10/AD35*100 -> -7.4868602
T37: =T18/T35*100 -> 80.174298 | U37: =U18/U35*100 -> 80.46835 | V37: =V18/V35*100 -> 78.363981 | W37: =W18/W35*100 -> 77.220233 | X37: =X18/X35*100 -> 76.490502 | Y37: =Y18/Y35*100 -> 75.724129 | Z37: =Z18/Z35*100 -> 74.645886 | AA37: =AA18/AA35*100 -> 72.001637 | ... AD37: =AD18/AD35*100 -> 78.686601
C41: COVERAGE | E41: =IF(OR(COUNTA(E10:E14,E18,E20:E26,E31:E32,E35)=16,NOT(ISNUMBER(E5))),"OK","NOT fully completed, pls.fill with L, M or 0") -> OK | F41: =IF(OR(COUNTA(F10:F14,F18,F20:F26,F31:F32,F35)=16,NOT(ISNUMBER(F5))),"OK","NOT fully completed, pls.fill with L, M or 0") -> OK | G41: =IF(OR(COUNTA(G10:G14,G18,G20:G26,G31:G32,G35)=16,NOT(ISNUMBER(G5))),"OK","NOT fully completed, pls.fill with L, M or 0") -> OK | H41: =IF(OR(COUNTA(H10:H14,H18,H20:H26,H31:H32,H35)=16,NOT(ISNUMBER(H5))),"OK","NOT fully completed, pls.fill with L, M or 0") -> OK | I41: =IF(OR(COUNTA(I10:I14,I18,I20:I26,I31:I32,I35)=16,NOT(ISNUMBER(I5))),"OK","NOT fully completed, pls.fill with L, M or 0") -> OK | J41: =IF(OR(COUNTA(J10:J14,J18,J20:J26,J31:J32,J35)=16,NOT(ISNUMBER(J5))),"OK","NOT fully completed, pls.fill with L, M or 0") -> OK | K41: =IF(OR(COUNTA(K10:K14,K18,K20:K26,K31:K32,K35)=16,NOT(ISNUMBER(K5))),"OK","NOT fully completed, pls.fill with L, M or 0") -> OK | L41: =IF(OR(COUNTA(L10:L14,L18,L20:L26,L31:L32,L35)=16,NOT(ISNUMBER(L5))),"OK","NOT fully completed, pls.fill with L, M or 0") -> OK | ... AJ41: =IF(OR(COUNTA(AJ10:AJ14,AJ18,AJ20:AJ26,AJ31:AJ32,AJ35)=16,NOT(ISNUMBER(AJ5))),"OK","NOT fully completed, pls.fill with L, M or 0") -> OK
C42: VERTICAL CHECKS | E42: 1995 | F42: =E42+1 -> 1996 | G42: =F42+1 -> 1997 | H42: =G42+1 -> 1998 | I42: =H42+1 -> 1999 | J42: =I42+1 -> 2000 | K42: =J42+1 -> 2001 | L42: =K42+1 -> 2002 | M42: =L42+1 -> 2003 | ... AJ42: =AI42+1 -> 2026
C43: T1.B9.S13=T1.B9.S1311+T1.B9.S1312+T1.B9.S1313+T1.B9.S1314 | E43: =IF(AND(E10="0",E11="0",E12="0",E13="0",E14="0"),0,IF(AND(E10="L",E11="L",E12="L",E13="L",E14="L"),"NC",IF(E10="M",0,E10)-IF(E11="M",0,E11)-IF(E12="M",0,E12)-IF(E13="M",0,E13)-IF(E14="M",0,E14))) -> 0 | F43: =IF(AND(F10="0",F11="0",F12="0",F13="0",F14="0"),0,IF(AND(F10="L",F11="L",F12="L",F13="L",F14="L"),"NC",IF(F10="M",0,F10)-IF(F11="M",0,F11)-IF(F12="M",0,F12)-IF(F13="M",0,F13)-IF(F14="M",0,F14))) -> 0 | G43: =IF(AND(G10="0",G11="0",G12="0",G13="0",G14="0"),0,IF(AND(G10="L",G11="L",G12="L",G13="L",G14="L"),"NC",IF(G10="M",0,G10)-IF(G11="M",0,G11)-IF(G12="M",0,G12)-IF(G13="M",0,G13)-IF(G14="M",0,G14))) -> 0 | H43: =IF(AND(H10="0",H11="0",H12="0",H13="0",H14="0"),0,IF(AND(H10="L",H11="L",H12="L",H13="L",H14="L"),"NC",IF(H10="M",0,H10)-IF(H11="M",0,H11)-IF(H12="M",0,H12)-IF(H13="M",0,H13)-IF(H14="M",0,H14))) -> 0 | I43: =IF(AND(I10="0",I11="0",I12="0",I13="0",I14="0"),0,IF(AND(I10="L",I11="L",I12="L",I13="L",I14="L"),"NC",IF(I10="M",0,I10)-IF(I11="M",0,I11)-IF(I12="M",0,I12)-IF(I13="M",0,I13)-IF(I14="M",0,I14))) -> 0 | J43: =IF(AND(J10="0",J11="0",J12="0",J13="0",J14="0"),0,IF(AND(J10="L",J11="L",J12="L",J13="L",J14="L"),"NC",IF(J10="M",0,J10)-IF(J11="M",0,J11)-IF(J12="M",0,J12)-IF(J13="M",0,J13)-IF(J14="M",0,J14))) -> 1.4551915e-11 | K43: =IF(AND(K10="0",K11="0",K12="0",K13="0",K14="0"),0,IF(AND(K10="L",K11="L",K12="L",K13="L",K14="L"),"NC",IF(K10="M",0,K10)-IF(K11="M",0,K11)-IF(K12="M",0,K12)-IF(K13="M",0,K13)-IF(K14="M",0,K14))) -> -2.910383e-11 | L43: =IF(AND(L10="0",L11="0",L12="0",L13="0",L14="0"),0,IF(AND(L10="L",L11="L",L12="L",L13="L",L14="L"),"NC",IF(L10="M",0,L10)-IF(L11="M",0,L11)-IF(L12="M",0,L12)-IF(L13="M",0,L13)-IF(L14="M",0,L14))) -> 0 | ... AJ43: =IF(AND(AJ10="0",AJ11="0",AJ12="0",AJ13="0",AJ14="0"),0,IF(AND(AJ10="L",AJ11="L",AJ12="L",AJ13="L",AJ14="L"),"NC",IF(AJ10="M",0,AJ10)-IF(AJ11="M",0,AJ11)-IF(AJ12="M",0,AJ12)-IF(AJ13="M",0,AJ13)-IF(AJ14="M",0,AJ14))) -> 0
C44: T1.DEBT.S13=T1.AF2.S13+T1.AF3.S13+T1.AF4.S13 | E44: =IF(AND(E18="0",E20="0",E21="0",E24="0"),0,IF(AND(E18="L",E20="L",E21="L",E24="L"),"NC",IF(E18="M",0,E18)-IF(E20="M",0,E20)-IF(E21="M",0,E21)-IF(E24="M",0,E24))) -> 0 | F44: =IF(AND(F18="0",F20="0",F21="0",F24="0"),0,IF(AND(F18="L",F20="L",F21="L",F24="L"),"NC",IF(F18="M",0,F18)-IF(F20="M",0,F20)-IF(F21="M",0,F21)-IF(F24="M",0,F24))) -> 4.6566129e-10 | G44: =IF(AND(G18="0",G20="0",G21="0",G24="0"),0,IF(AND(G18="L",G20="L",G21="L",G24="L"),"NC",IF(G18="M",0,G18)-IF(G20="M",0,G20)-IF(G21="M",0,G21)-IF(G24="M",0,G24))) -> 0 | H44: =IF(AND(H18="0",H20="0",H21="0",H24="0"),0,IF(AND(H18="L",H20="L",H21="L",H24="L"),"NC",IF(H18="M",0,H18)-IF(H20="M",0,H20)-IF(H21="M",0,H21)-IF(H24="M",0,H24))) -> 0 | I44: =IF(AND(I18="0",I20="0",I21="0",I24="0"),0,IF(AND(I18="L",I20="L",I21="L",I24="L"),"NC",IF(I18="M",0,I18)-IF(I20="M",0,I20)-IF(I21="M",0,I21)-IF(I24="M",0,I24))) -> 0 | J44: =IF(AND(J18="0",J20="0",J21="0",J24="0"),0,IF(AND(J18="L",J20="L",J21="L",J24="L"),"NC",IF(J18="M",0,J18)-IF(J20="M",0,J20)-IF(J21="M",0,J21)-IF(J24="M",0,J24))) -> 0 | K44: =IF(AND(K18="0",K20="0",K21="0",K24="0"),0,IF(AND(K18="L",K20="L",K21="L",K24="L"),"NC",IF(K18="M",0,K18)-IF(K20="M",0,K20)-IF(K21="M",0,K21)-IF(K24="M",0,K24))) -> 0 | L44: =IF(AND(L18="0",L20="0",L21="0",L24="0"),0,IF(AND(L18="L",L20="L",L21="L",L24="L"),"NC",IF(L18="M",0,L18)-IF(L20="M",0,L20)-IF(L21="M",0,L21)-IF(L24="M",0,L24))) -> 0 | ... AJ44: =IF(AND(AJ18="0",AJ20="0",AJ21="0",AJ24="0"),0,IF(AND(AJ18="L",AJ20="L",AJ21="L",AJ24="L"),"NC",IF(AJ18="M",0,AJ18)-IF(AJ20="M",0,AJ20)-IF(AJ21="M",0,AJ21)-IF(AJ24="M",0,AJ24))) -> 0
C45: T1.AF3.S13=T1.AF31.S13+T1.AF32.S13 | E45: =IF(AND(E21="0",E22="0",E23="0"),0,IF(AND(E21="L",E22="L",E23="L"),"NC",IF(E21="M",0,E21)-IF(E22="M",0,E22)-IF(E23="M",0,E23))) -> 0 | F45: =IF(AND(F21="0",F22="0",F23="0"),0,IF(AND(F21="L",F22="L",F23="L"),"NC",IF(F21="M",0,F21)-IF(F22="M",0,F22)-IF(F23="M",0,F23))) -> 0 | G45: =IF(AND(G21="0",G22="0",G23="0"),0,IF(AND(G21="L",G22="L",G23="L"),"NC",IF(G21="M",0,G21)-IF(G22="M",0,G22)-IF(G23="M",0,G23))) -> 0 | H45: =IF(AND(H21="0",H22="0",H23="0"),0,IF(AND(H21="L",H22="L",H23="L"),"NC",IF(H21="M",0,H21)-IF(H22="M",0,H22)-IF(H23="M",0,H23))) -> 0 | I45: =IF(AND(I21="0",I22="0",I23="0"),0,IF(AND(I21="L",I22="L",I23="L"),"NC",IF(I21="M",0,I21)-IF(I22="M",0,I22)-IF(I23="M",0,I23))) -> 0 | J45: =IF(AND(J21="0",J22="0",J23="0"),0,IF(AND(J21="L",J22="L",J23="L"),"NC",IF(J21="M",0,J21)-IF(J22="M",0,J22)-IF(J23="M",0,J23))) -> 9.3132257e-10 | K45: =IF(AND(K21="0",K22="0",K23="0"),0,IF(AND(K21="L",K22="L",K23="L"),"NC",IF(K21="M",0,K21)-IF(K22="M",0,K22)-IF(K23="M",0,K23))) -> 0 | L45: =IF(AND(L21="0",L22="0",L23="0"),0,IF(AND(L21="L",L22="L",L23="L"),"NC",IF(L21="M",0,L21)-IF(L22="M",0,L22)-IF(L23="M",0,L23))) -> 0 | ... AJ45: =IF(AND(AJ21="0",AJ22="0",AJ23="0"),0,IF(AND(AJ21="L",AJ22="L",AJ23="L"),"NC",IF(AJ21="M",0,AJ21)-IF(AJ22="M",0,AJ22)-IF(AJ23="M",0,AJ23))) -> 0
C46: T1.AF4.S13=T1.AF41.S13+T1.AF42.S13 | E46: =IF(AND(E24="0",E25="0",E26="0"),0,IF(AND(E24="L",E25="L",E26="L"),"NC",IF(E24="M",0,E24)-IF(E25="M",0,E25)-IF(E26="M",0,E26))) -> 0 | F46: =IF(AND(F24="0",F25="0",F26="0"),0,IF(AND(F24="L",F25="L",F26="L"),"NC",IF(F24="M",0,F24)-IF(F25="M",0,F25)-IF(F26="M",0,F26))) -> -4.6566129e-10 | G46: =IF(AND(G24="0",G25="0",G26="0"),0,IF(AND(G24="L",G25="L",G26="L"),"NC",IF(G24="M",0,G24)-IF(G25="M",0,G25)-IF(G26="M",0,G26))) -> 0 | H46: =IF(AND(H24="0",H25="0",H26="0"),0,IF(AND(H24="L",H25="L",H26="L"),"NC",IF(H24="M",0,H24)-IF(H25="M",0,H25)-IF(H26="M",0,H26))) -> 0 | I46: =IF(AND(I24="0",I25="0",I26="0"),0,IF(AND(I24="L",I25="L",I26="L"),"NC",IF(I24="M",0,I24)-IF(I25="M",0,I25)-IF(I26="M",0,I26))) -> 0 | J46: =IF(AND(J24="0",J25="0",J26="0"),0,IF(AND(J24="L",J25="L",J26="L"),"NC",IF(J24="M",0,J24)-IF(J25="M",0,J25)-IF(J26="M",0,J26))) -> 0 | K46: =IF(AND(K24="0",K25="0",K26="0"),0,IF(AND(K24="L",K25="L",K26="L"),"NC",IF(K24="M",0,K24)-IF(K25="M",0,K25)-IF(K26="M",0,K26))) -> 0 | L46: =IF(AND(L24="0",L25="0",L26="0"),0,IF(AND(L24="L",L25="L",L26="L"),"NC",IF(L24="M",0,L24)-IF(L25="M",0,L25)-IF(L26="M",0,L26))) -> 2.3283064e-10 | ... AJ46: =IF(AND(AJ24="0",AJ25="0",AJ26="0"),0,IF(AND(AJ24="L",AJ25="L",AJ26="L"),"NC",IF(AJ24="M",0,AJ24)-IF(AJ25="M",0,AJ25)-IF(AJ26="M",0,AJ26))) -> 0

Sheet Table 2A
C1: Table 2A: Provision of the data which explain the transition between the public accounts budget balance and the central government surplus/ deficit | AM1: cash | AN1: Apr.2025 | AO1: 3 | AP1: 4 | AQ1: 5 | AR1: 6 | AS1: 7 | AT1: =AS1+1 -> 8 | AU1: =AT1+1 -> 9 | AV1: =AU1+1 -> 10 | AW1: =AV1+1 -> 11 | AX1: =AW1+1 -> 12 | AY1: =AX1+1 -> 13 | AZ1: =AY1+1 -> 14 | BA1: =AZ1+1 -> 15 | ... BE1: =BD1+1 -> 19
AM2: accrual | AN2: =IF($AN$1='Cover page'!$N$2,0,1) -> 0
AM3: mixed
C4: ='Cover page'!E13 -> Member State: Hungary | D4: Year | AM4: other
B5: SDMX series | C5: Data are in ...(millions of units of national currency) | D5: ='Table 1'!E5 -> 1995 | E5: =IF(VLOOKUP('Cover page'!$F$15,'Cover page'!$BD$1:$BF$15,3,FALSE)<D121+1,"",D121+1) -> 1996 | F5: =IF(VLOOKUP('Cover page'!$F$15,'Cover page'!$BD$1:$BF$15,3,FALSE)<E121+1,"",E121+1) -> 1997 | G5: =IF(VLOOKUP('Cover page'!$F$15,'Cover page'!$BD$1:$BF$15,3,FALSE)<F121+1,"",F121+1) -> 1998 | H5: =IF(VLOOKUP('Cover page'!$F$15,'Cover page'!$BD$1:$BF$15,3,FALSE)<G121+1,"",G121+1) -> 1999 | I5: =IF(VLOOKUP('Cover page'!$F$15,'Cover page'!$BD$1:$BF$15,3,FALSE)<H121+1,"",H121+1) -> 2000 | J5: =IF(VLOOKUP('Cover page'!$F$15,'Cover page'!$BD$1:$BF$15,3,FALSE)<I121+1,"",I121+1) -> 2001 | K5: =IF(VLOOKUP('Cover page'!$F$15,'Cover page'!$BD$1:$BF$15,3,FALSE)<J121+1,"",J121+1) -> 2002 | L5: =IF(VLOOKUP('Cover page'!$F$15,'Cover page'!$BD$1:$BF$15,3,FALSE)<K121+1,"",K121+1) -> 2003 | ... AI5: =IF(VLOOKUP('Cover page'!$F$15,'Cover page'!$BD$1:$BF$15,3,FALSE)<AH121+1,"",AH121+1)
C6: ='Cover page'!E14 -> Date: 10/10/2025
A8: T2.WB.S1311 | B8: A.N.@@._Z.S1311._Z._Z.B.ORWB._Z.T._Z.XDC._T.S.V.N._T.EDP2 | C8: Working balance in central government accounts | D8: -133890 | E8: 77085 | F8: -177617 | G8: -540191 | H8: -328319 | I8: -367790 | J8: -402941 | K8: -1469610 | L8: -732419 | M8: -904520 | N8: -547801 | O8: -1961632 | P8: -1398117 | Q8: -869962 | R8: -743718 | S8: -794088 | T8: -1657935 | U8: -481082 | V8: -933577 | W8: -810966.5 | X8: -1211646.9 | Y8: -748070.9 | Z8: -1690325 | AA8: -1367743 | AB8: -893004 | AC8: -4669259.2 | BM8: =CountryCode & ".T2.WB.S1311.MNAC." & RefVintage -> HU.T2.WB.S1311.MNAC.S.2025
C9: Basis of the working balance | D9: cash | E9: cash | F9: cash | G9: cash | H9: cash | I9: cash | J9: cash | K9: cash | L9: cash | M9: cash | N9: cash | O9: cash | P9: cash | Q9: cash | R9: cash | S9: cash | T9: cash | U9: cash | V9: cash | W9: cash | X9: cash | Y9: cash | Z9: cash | AA9: cash | AB9: cash | AC9: cash | AD9: (1) | AE9: (1) | AF9: (1) | AG9: (1) | AH9: (1) | AI9: (1)
D10: =IFERROR(VLOOKUP(D9,StatusTable,2,FALSE), -1) -> 10 | E10: =IFERROR(VLOOKUP(E9,StatusTable,2,FALSE), -1) -> 10 | F10: =IFERROR(VLOOKUP(F9,StatusTable,2,FALSE), -1) -> 10 | G10: =IFERROR(VLOOKUP(G9,StatusTable,2,FALSE), -1) -> 10 | H10: =IFERROR(VLOOKUP(H9,StatusTable,2,FALSE), -1) -> 10 | I10: =IFERROR(VLOOKUP(I9,StatusTable,2,FALSE), -1) -> 10 | J10: =IFERROR(VLOOKUP(J9,StatusTable,2,FALSE), -1) -> 10 | K10: =IFERROR(VLOOKUP(K9,StatusTable,2,FALSE), -1) -> 10 | ... AC10: =IFERROR(VLOOKUP(AC9,StatusTable,2,FALSE), -1) -> 10 | BM10: =CountryCode & ".T2.WB_STATUS.S1311.MNAC." & RefVintage -> HU.T2.WB_STATUS.S1311.MNAC.S.2025
A11: T2.FT.S1311 | B11: A.N.@@._Z.S1311._Z._Z.B.F.F.T._Z.XDC._T.S.V.N._T.EDP2 | C11: Financial transactions included in the working balance | D11: -154251 | E11: -208943 | F11: -159567 | G11: -19064 | H11: -52376 | I11: -83484 | J11: -29945 | K11: 69117 | L11: -22114 | M11: 4388 | N11: -378922 | O11: -1273 | P11: 68556 | Q11: 3560 | R11: -12043 | S11: -100501 | T11: 539417 | U11: -35950 | V11: -51908 | W11: 88489.903 | X11: -164043.88 | Y11: -53167.966 | Z11: -108500.67 | AA11: 10869 | AB11: 140394.9 | AC11: 445943.41 | BM11: =CountryCode & ".T2.FT.S1311.MNAC." & RefVintage -> HU.T2.FT.S1311.MNAC.S.2025
A12: T2.F4ACQ.S1311 | B12: A.N.@@._Z.S1311._Z.N.AI.F.F4.T._Z.XDC._T.S.V.N._T.EDP2 | C12: Loans, granted (+) | D12: 36787 | E12: 12548 | F12: 23521 | G12: 9239 | H12: 13798 | I12: 16794 | J12: 20492 | K12: 12484 | L12: 17933 | M12: 20941 | N12: 30360 | O12: 15022 | P12: 19422 | Q12: 20182 | R12: 21344 | S12: 19188 | T12: 25445 | U12: 4653 | V12: 19911 | W12: 10141 | X12: 20489.828 | Y12: 43434.789 | Z12: 139585.24 | AA12: 102789 | AB12: 151626 | AC12: 238631 | BM12: =CountryCode & ".T2.F4ACQ.S1311.MNAC." & RefVintage -> HU.T2.F4ACQ.S1311.MNAC.S.2025
A13: T2.F4DIS.S1311 | B13: A.N.@@._Z.S1311._Z.N.AD.F.F4.T._Z.XDC._T.S.V.N._T.EDP2 | C13: Loans, repayments (-) | D13: -46402 | E13: -52602 | F13: -67157 | G13: -52128 | H13: -34996 | I13: -83437 | J13: -26473 | K13: -25090 | L13: -43719 | M13: -30346 | N13: -18715 | O13: -19872 | P13: -10609 | Q13: -16033 | R13: -6746 | S13: -9128 | T13: -8911 | U13: -6214 | V13: -12677 | W13: -17098.187 | X13: -10714.54 | Y13: -10473.957 | Z13: -13248.509 | AA13: -13951 | AB13: -25128 | AC13: -43791 | BM13: =CountryCode & ".T2.F4DIS.S1311.MNAC." & RefVintage -> HU.T2.F4DIS.S1311.MNAC.S.2025
A14: T2.F5ACQ.S1311 | B14: A.N.@@._Z.S1311._Z.N.AI.F.F5.T._Z.XDC._T.S.V.N._T.EDP2 | C14: Equities, acquisition (+) | D14: 13360 | E14: 62191 | F14: 25728 | G14: 49248 | H14: 12252 | I14: 7614 | J14: 10996 | K14: 107849 | L14: 5247 | M14: 8496 | N14: 8056 | O14: 17264 | P14: 25067 | Q14: 21561 | R14: 38618 | S14: 1437 | T14: 557577 | U14: 9519 | V14: 113652 | W14: 179623.46 | X14: 18764.375 | Y14: 52131.457 | Z14: 41849.863 | AA14: 16236 | AB14: 155076.9 | AC14: 345469 | BM14: =CountryCode & ".T2.F5ACQ.S1311.MNAC." & RefVintage -> HU.T2.F5ACQ.S1311.MNAC.S.2025
A15: T2.F5DIS.S1311 | B15: A.N.@@._Z.S1311._Z.N.AD.F.F5.T._Z.XDC._T.S.V.N._T.EDP2 | C15: Equities, sales (-) | D15: -150014 | E15: -228527 | F15: -173248 | G15: -67645 | H15: -73727 | I15: -21055 | J15: -29736 | K15: -23523 | L15: -580 | M15: -223 | N15: -401919 | O15: -2258 | P15: -7921 | Q15: -30740 | R15: -16270 | S15: -1930 | T15: -1195 | U15: -76 | V15: -25846 | W15: -97.713 | X15: -91628.894 | Y15: -7467.3349 | Z15: -147.88136 | AA15: -4598 | AB15: -19813 | AC15: -2721 | BM15: =CountryCode & ".T2.F5DIS.S1311.MNAC." & RefVintage -> HU.T2.F5DIS.S1311.MNAC.S.2025
A16: T2.OFT.S1311 | B16: A.N.@@._Z.S1311._Z._Z.N.F.FNDX.T._Z.XDC._T.S.V.N._T.EDP2 | C16: Other financial transactions (+/-) | D16: -7982 | E16: -2553 | F16: 31589 | G16: 42222 | H16: 30297 | I16: -3400 | J16: -5224 | K16: -2603 | L16: -995 | M16: 5520 | N16: 3296 | O16: -11429 | P16: 42597 | Q16: 8590 | R16: -48989 | S16: -110068 | T16: -33499 | U16: -43832 | V16: -146948 | W16: -84078.659 | X16: -100954.65 | Y16: -130792.92 | Z16: -276539.38 | AA16: -89607 | AB16: -121367 | AC16: -91644.592 | BM16: =CountryCode & ".T2.OFT.S1311.MNAC." & RefVintage -> HU.T2.OFT.S1311.MNAC.S.2025
A17: T2.OFTDL.S1311 | B17: A.N.@@._Z.S1311._Z._Z.L.F.FNDL.T._Z.XDC._T.S.V.N._T.EDP2 | C17: of which: transactions in debt liabilities (+/-) | D17: L | E17: L | F17: L | G17: L | H17: L | I17: L | J17: L | K17: L | L17: L | M17: L | N17: L | O17: L | P17: L | Q17: 0 | R17: 0 | S17: 0 | T17: 0 | U17: 0 | V17: 0 | W17: L | X17: L | Y17: L | Z17: L | AA17: L | AB17: L | AC17: L | BM17: =CountryCode & ".T2.OFTDL.S1311.MNAC." & RefVintage -> HU.T2.OFTDL.S1311.MNAC.S.2025
A18: T2.F71K.S1311 | B18: A.N.@@._Z.S1311._Z._Z.N.F.F71K.T._Z.XDC._T.S.V.N._T.EDP2 | C18: of which: net settlements under swap contracts (+/-) | D18: 0 | E18: 0 | F18: 29542 | G18: 39740 | H18: 31331 | I18: -5976 | J18: -4980 | K18: -2149 | L18: 6635 | M18: 3700 | N18: -2166 | O18: -12102 | P18: 5037 | Q18: 10036 | R18: 20743 | S18: -20868 | T18: -24526 | U18: -26623 | V18: -53970 | W18: -85748 | X18: -120341 | Y18: -119060 | Z18: -113887 | AA18: -85235 | AB18: -97018 | AC18: -80359 | BM18: =CountryCode & ".T2.F71K.S1311.MNAC." & RefVintage -> HU.T2.F71K.S1311.MNAC.S.2025
A19: T2.OFT1.S1311 | B19: A.N.@@._Z.S1311._Z._Z.N.F.FNDX.T._Z.XDC._T.S.V.N.C01.EDP2 | C19: Detail 1 | D19: 1848 | E19: 262 | F19: -238 | G19: -4 | H19: -400 | I19: 1328 | J19: -1661 | K19: -1266 | L19: -8062 | M19: 990 | N19: 4859 | O19: -4662 | P19: 4252 | Q19: -226 | R19: -2432 | S19: -1587 | T19: -428 | U19: -46 | V19: -229 | W19: -40 | X19: -25376.162 | Y19: -7755.2814 | Z19: 48833.164 | AA19: 0 | AB19: 0 | AC19: 0 | BM19: =CountryCode & ".T2.OFT1.S1311.MNAC." & RefVintage -> HU.T2.OFT1.S1311.MNAC.S.2025
A20: T2.OFT2.S1311 | B20: A.N.@@._Z.S1311._Z._Z.N.F.FNDX.T._Z.XDC._T.S.V.N.C02.EDP2 | C20: Detail 2 | P20: -1403 | Q20: -5446 | R20: -39847 | S20: 4039 | T20: 1070 | U20: -5083 | V20: -8277 | W20: -14940 | BM20: =CountryCode & ".T2.OFT2.S1311.MNAC." & RefVintage -> HU.T2.OFT2.S1311.MNAC.S.2025
A22: T2.ONFT.S1311 | B22: A.N.@@._Z.S1311._Z._Z.B.ORNF._Z.T._Z.XDC._T.S.V.N._T.EDP2 | C22: Non-financial transactions not included in the working balance | D22: M | E22: M | F22: M | G22: M | H22: M | I22: M | J22: M | K22: M | L22: M | M22: M | N22: M | O22: M | P22: M | Q22: M | R22: M | S22: M | T22: M | U22: M | V22: M | W22: M | X22: M | Y22: M | Z22: M | AA22: M | AB22: M | AC22: M | BM22: =CountryCode & ".T2.ONFT.S1311.MNAC." & RefVintage -> HU.T2.ONFT.S1311.MNAC.S.2025
A23: T2.ONFT1.S1311 | B23: A.N.@@._Z.S1311._Z._Z.B.ORNF._Z.T._Z.XDC._T.S.V.N.C01.EDP2 | C23: Detail 1 | BM23: =CountryCode & ".T2.ONFT1.S1311.MNAC." & RefVintage -> HU.T2.ONFT1.S1311.MNAC.S.2025
A24: T2.ONFT2.S1311 | B24: A.N.@@._Z.S1311._Z._Z.B.ORNF._Z.T._Z.XDC._T.S.V.N.C02.EDP2 | C24: Detail 2 | BM24: =CountryCode & ".T2.ONFT2.S1311.MNAC." & RefVintage -> HU.T2.ONFT2.S1311.MNAC.S.2025
A26: T2.D41DIF.S1311 | B26: A.N.@@._Z.S1311._Z._Z.B.ORD41A._Z.T._Z.XDC._T.S.V.N._T.EDP2 | C26: Difference between interest paid (+) and accrued (D.41)(-) | D26: -18665 | E26: -93473 | F26: -30032 | G26: -15715 | H26: -2300 | I26: 54416 | J26: 2492 | K26: 11287 | L26: 6723 | M26: -38590 | N26: -62554 | O26: 20683 | P26: -60682 | Q26: 40310 | R26: -76937 | S26: -5065 | T26: -30701 | U26: -24532 | V26: 8559 | W26: -59558 | X26: 20121 | Y26: 83603 | Z26: 154737 | AA26: 86106 | AB26: -47276 | AC26: 26536 | BM26: =CountryCode & ".T2.D41DIF.S1311.MNAC." & RefVintage -> HU.T2.D41DIF.S1311.MNAC.S.2025
A28: T2.F8ASS.S1311 | B28: A.N.@@._Z.S1311._Z._Z.A.F.F8.T._Z.XDC._T.S.V.N._T.EDP2 | C28: Other accounts receivable (+) | D28: -2000 | E28: 18593 | F28: 6151 | G28: 26293 | H28: 12037 | I28: 28648 | J28: 40819 | K28: 43019 | L28: 43107 | M28: 153696 | N28: -51965 | O28: 58596 | P28: 25535 | Q28: 7897 | R28: 80308 | S28: 26467 | T28: 35238 | U28: -43244 | V28: 87290.5 | W28: 141021.62 | X28: 825731.13 | Y28: -234727.91 | Z28: 202885.43 | AA28: 40299 | AB28: 101527.53 | AC28: -77324 | BM28: =CountryCode & ".T2.F8ASS.S1311.MNAC." & RefVintage -> HU.T2.F8ASS.S1311.MNAC.S.2025
A29: T2.F8ASS1.S1311 | B29: A.N.@@._Z.S1311._Z._Z.A.F.F8.T._Z.XDC._T.S.V.N.C01.EDP2 | C29: Relates to P11 and P.131 | D29: 0 | E29: 0 | F29: 0 | G29: 0 | H29: 0 | I29: 0 | J29: 0 | K29: -3435 | L29: 76 | M29: 1168 | N29: 8118 | O29: 17787 | P29: -3420 | Q29: -6067 | R29: 8361 | S29: 9072 | T29: -6397 | U29: -990 | V29: -1189 | W29: -428 | X29: 3046 | Y29: 1659 | Z29: -379 | AA29: -28 | AB29: -2112 | AC29: -1183 | BM29: =CountryCode & ".T2.F8ASS1.S1311.MNAC." & RefVintage -> HU.T2.F8ASS1.S1311.MNAC.S.2025
C30: Relates to D.2 | D30: 12439 | E30: 7562 | F30: -21818 | G30: 13583 | H30: -5016 | I30: 5744 | J30: 16200 | K30: 27352 | L30: 32821 | M30: 144535 | N30: 15484 | O30: 4253 | P30: 714 | Q30: -14192 | R30: 61027 | S30: -3556 | T30: 46057 | U30: -7397 | V30: 80320 | W30: 41061 | X30: 24570 | Y30: 39901 | Z30: 41922.642 | AA30: 64195 | AB30: 113926.53 | AC30: 26039
C31: Relates to D.42 | R31: -21814 | S31: 21814 | T31: 0 | U31: 0 | V31: 0 | W31: 0 | X31: 0 | Y31: 0 | Z31: 0 | AA31: 26040 | AC31: -97680
C32: Relates to D.45 and K.2 | D32: 1600 | E32: 1600 | F32: 1600 | G32: 1600 | H32: 1600 | I32: 1600 | J32: 800 | K32: 800 | L32: 800 | M32: -7878 | N32: -75267 | O32: 10233 | P32: -7267 | Q32: 15826 | R32: 18400 | S32: 18400 | T32: 6400 | U32: 6400 | V32: 8647 | W32: 20899 | X32: 28708 | Y32: 27375 | Z32: 26040 | AA32: 23736 | AB32: -6460 | AC32: 15553
C33: Relates to D.5 and D.91 | D33: -16039 | E33: 9431 | F33: 26369 | G33: 11110 | H33: 15453 | I33: 21304 | J33: 23819 | K33: 18302 | L33: 9410 | M33: 2671 | N33: 11779 | O33: 19792 | P33: -2278 | Q33: 6961 | R33: -2654 | S33: -39086 | T33: -19104 | U33: 13253 | V33: -4324 | W33: 70082.6 | X33: 1222 | Y33: -51457.7 | Z33: 30888.7 | AA33: 1909 | AB33: 150460 | AC33: 283
C34: Relates to D.61 | S34: -5042 | T34: 1153 | U34: -5676 | V34: 785 | W34: 667 | X34: 887 | Y34: 20423 | Z34: -17588 | AA34: 0 | AB34: 2427 | AC34: 3867
C35: Relates to: Eu transfers (excluding RRF) | D35: 0 | E35: 0 | F35: 0 | G35: 0 | H35: 0 | I35: 0 | J35: 0 | K35: 0 | L35: 0 | M35: 13200 | N35: -12079 | O35: 6531 | P35: 37786 | Q35: 3610 | R35: 20573 | S35: 21785 | T35: 20133 | U35: -43260 | V35: 1573 | W35: 7545.257 | X35: 765318 | Y35: -275566 | Z35: 112357.69 | AA35: -75259 | AB35: -157073 | AC35: -23533
C36: of which: EU financial correction | AB36: -77954 | AC36: -148847
C37: Relates to RRF (Recovery and Resilience Facility) | AB37: 0 | AC37: 0
A38: T2.F8ASS2.S1311 | B38: A.N.@@._Z.S1311._Z._Z.A.F.F8.T._Z.XDC._T.S.V.N.C02.EDP2 | C38: Relates to consolidation | Q38: 1759 | R38: -3585 | S38: 3080 | T38: -13004 | U38: -5574 | V38: 1478.5 | W38: 1194.767 | X38: 1980.131 | Y38: 2937.7874 | Z38: 9643.3947 | AA38: -294 | AB38: 359 | AC38: -670 | BM38: =CountryCode & ".T2.F8ASS2.S1311.MNAC." & RefVintage -> HU.T2.F8ASS2.S1311.MNAC.S.2025
A39: T2.F8LIA.S1311 | B39: A.N.@@._Z.S1311._Z._Z.L.F.F8.T._Z.XDC._T.S.V.N._T.EDP2 | C39: Other accounts payable (-) | D39: 32338 | E39: -3960 | F39: 27691 | G39: -27590 | H39: -4022 | I39: 3283 | J39: -21184 | K39: -5236 | L39: -185097 | M39: -93972 | N39: 35215 | O39: -58342 | P39: 123901 | Q39: -6475 | R39: -79423 | S39: -33486 | T39: -58374 | U39: -149347 | V39: -152443 | W39: -232458.8 | X39: 12980 | Y39: 129647 | Z39: 450244.3 | AA39: 261640 | AB39: -207003 | AC39: -99694.7 | BM39: =CountryCode & ".T2.F8LIA.S1311.MNAC." & RefVintage -> HU.T2.F8LIA.S1311.MNAC.S.2025
A40: T2.F8LIA1.S1311 | B40: A.N.@@._Z.S1311._Z._Z.L.F.F8.T._Z.XDC._T.S.V.N.C01.EDP2 | C40: Relates to P.2 | D40: 0 | E40: 0 | F40: 0 | G40: 0 | H40: 0 | I40: -878 | J40: -1 | K40: 2216 | L40: -7858 | M40: 6955 | N40: -8158 | O40: -14653 | P40: 50183 | Q40: 9099 | R40: -56090 | S40: -28148 | T40: 11921 | U40: -17104 | V40: -4323 | W40: -31910 | X40: 12374 | Y40: -14381 | Z40: -39368 | AA40: 1291 | AB40: -34322 | AC40: 64599 | BM40: =CountryCode & ".T2.F8LIA1.S1311.MNAC." & RefVintage -> HU.T2.F8LIA1.S1311.MNAC.S.2025
C41: Relates to D.1 | D41: 0 | E41: 0 | F41: 0 | G41: 0 | H41: 0 | I41: -11747 | J41: -8658 | K41: -18414 | L41: -4476 | M41: -1789 | N41: 9100 | O41: 21515 | P41: 8260 | Q41: 740 | R41: 966 | S41: 5097 | T41: -4073 | U41: -14842 | V41: -62471 | W41: 3530 | X41: -15171 | Y41: -30002 | Z41: -19668 | AA41: -13532 | AB41: -10498 | AC41: -14638
C42: Relates to D.211 | D42: 0 | E42: 0 | F42: 0 | G42: 0 | H42: 0 | I42: 0 | J42: -27416 | K42: 19317 | L42: -174618 | M42: -35436 | N42: 71298 | O42: -58970 | P42: 32402 | Q42: -18546 | R42: -47137 | S42: -6348 | T42: -81906 | U42: -131022 | V42: -150250 | W42: -58668 | X42: -13889 | Y42: -12845 | Z42: 56386 | AA42: 118705 | AB42: -90566 | AC42: 28614
C43: Relates to D.3 | D43: 0 | E43: 0 | F43: 0 | G43: -1156 | H43: -319 | I43: -668 | J43: 1705 | K43: -8496 | L43: 9 | M43: -77826 | N43: -3164 | O43: 4367 | P43: 22309 | Q43: 14677 | R43: 48165 | S43: -3299 | T43: 4249 | U43: 7644 | V43: 6174 | W43: -19595 | X43: 17575 | Y43: 8270 | Z43: -244 | AA43: -1639 | AB43: -3450 | AC43: 6146
C44: Relates to P.51 | D44: 34738 | E44: 203 | F44: 23351 | G44: -21871 | H44: -12628 | I44: 8228 | J44: 22199 | K44: 1711 | L44: 12751 | M44: 19176 | N44: -34858 | O44: -35790 | P44: 11621 | Q44: -12572 | R44: -25239 | S44: -142 | T44: 11291 | U44: 6340 | V44: 54536 | W44: 23416.196 | X44: 26724 | Y44: 15223 | Z44: 24630.303 | AA44: -9094 | AB44: 20281 | AC44: -12031
...

Sheet Table 2B
C1: Table 2B: Provision of the data which explain the transition between the working balance and the state government surplus/ deficit | AM1: cash | AN1: Apr.2025 | AO1: 3 | AP1: 4 | AQ1: 5 | AR1: 6 | AS1: =AR1+1 -> 7 | AT1: =AS1+1 -> 8 | AU1: =AT1+1 -> 9 | AV1: =AU1+1 -> 10 | AW1: =AV1+1 -> 11 | AX1: =AW1+1 -> 12 | AY1: =AX1+1 -> 13 | AZ1: =AY1+1 -> 14 | ... BE1: =BD1+1 -> 19
AM2: accrual | AN2: =IF($AN$1='Cover page'!$N$2,0,1) -> 0
AM3: mixed
C4: ='Cover page'!E13 -> Member State: Hungary | D4: Year | AM4: other
B5: SDMX series | C5: Data are in ...(millions of units of national currency) | D5: ='Table 1'!E5 -> 1995 | E5: =IF(VLOOKUP('Cover page'!$F$15,'Cover page'!$BD$1:$BF$15,3,FALSE)<D52+1,"",D52+1) -> 1996 | F5: =IF(VLOOKUP('Cover page'!$F$15,'Cover page'!$BD$1:$BF$15,3,FALSE)<E52+1,"",E52+1) -> 1997 | G5: =IF(VLOOKUP('Cover page'!$F$15,'Cover page'!$BD$1:$BF$15,3,FALSE)<F52+1,"",F52+1) -> 1998 | H5: =IF(VLOOKUP('Cover page'!$F$15,'Cover page'!$BD$1:$BF$15,3,FALSE)<G52+1,"",G52+1) -> 1999 | I5: =IF(VLOOKUP('Cover page'!$F$15,'Cover page'!$BD$1:$BF$15,3,FALSE)<H52+1,"",H52+1) -> 2000 | J5: =IF(VLOOKUP('Cover page'!$F$15,'Cover page'!$BD$1:$BF$15,3,FALSE)<I52+1,"",I52+1) -> 2001 | K5: =IF(VLOOKUP('Cover page'!$F$15,'Cover page'!$BD$1:$BF$15,3,FALSE)<J52+1,"",J52+1) -> 2002 | L5: =IF(VLOOKUP('Cover page'!$F$15,'Cover page'!$BD$1:$BF$15,3,FALSE)<K52+1,"",K52+1) -> 2003 | ... AI5: =IF(VLOOKUP('Cover page'!$F$15,'Cover page'!$BD$1:$BF$15,3,FALSE)<AH52+1,"",AH52+1)
C6: ='Cover page'!E14 -> Date: 10/10/2025
A8: T2.WB.S1312 | B8: A.N.@@._Z.S1312._Z._Z.B.ORWB._Z.T._Z.XDC._T.S.V.N._T.EDP2 | C8: Working balance in state government accounts | D8: M | E8: M | F8: M | G8: M | H8: M | I8: M | J8: M | K8: M | L8: M | M8: M | N8: M | O8: M | P8: M | Q8: M | R8: M | S8: M | T8: M | U8: M | V8: M | W8: M | X8: M | Y8: M | Z8: M | AA8: M | AB8: M | AC8: M | BM8: =CountryCode & ".T2.WB.S1312.MNAC." & RefVintage -> HU.T2.WB.S1312.MNAC.S.2025
C9: Basis of the working balance | D9: M | E9: M | F9: M | G9: M | H9: M | I9: M | J9: M | K9: M | L9: M | M9: M | N9: M | O9: M | P9: M | Q9: M | R9: M | S9: M | T9: M | U9: M | V9: M | W9: M | X9: M | Y9: M | Z9: M | AA9: M | AB9: M | AC9: M | AD9: (1) | AE9: (1) | AF9: (1) | AG9: (1) | AH9: (1) | AI9: (1)
D10: =IFERROR(VLOOKUP(D9,StatusTable,2,FALSE), -1) -> -1 | E10: =IFERROR(VLOOKUP(E9,StatusTable,2,FALSE), -1) -> -1 | F10: =IFERROR(VLOOKUP(F9,StatusTable,2,FALSE), -1) -> -1 | G10: =IFERROR(VLOOKUP(G9,StatusTable,2,FALSE), -1) -> -1 | H10: =IFERROR(VLOOKUP(H9,StatusTable,2,FALSE), -1) -> -1 | I10: =IFERROR(VLOOKUP(I9,StatusTable,2,FALSE), -1) -> -1 | J10: =IFERROR(VLOOKUP(J9,StatusTable,2,FALSE), -1) -> -1 | K10: =IFERROR(VLOOKUP(K9,StatusTable,2,FALSE), -1) -> -1 | ... AC10: =IFERROR(VLOOKUP(AC9,StatusTable,2,FALSE), -1) -> -1 | BM10: =CountryCode & ".T2.WB_STATUS.S1312.MNAC." & RefVintage -> HU.T2.WB_STATUS.S1312.MNAC.S.2025
A11: T2.FT.S1312 | B11: A.N.@@._Z.S1312._Z._Z.B.F.F.T._Z.XDC._T.S.V.N._T.EDP2 | C11: Financial transactions included in the working balance | D11: M | E11: M | F11: M | G11: M | H11: M | I11: M | J11: M | K11: M | L11: M | M11: M | N11: M | O11: M | P11: M | Q11: M | R11: M | S11: M | T11: M | U11: M | V11: M | W11: M | X11: M | Y11: M | Z11: M | AA11: M | AB11: M | AC11: M | BM11: =CountryCode & ".T2.FT.S1312.MNAC." & RefVintage -> HU.T2.FT.S1312.MNAC.S.2025
A12: T2.F4.S1312 | B12: A.N.@@._Z.S1312._Z.N.A.F.F4.T._Z.XDC._T.S.V.N._T.EDP2 | C12: Loans (+/-) | D12: M | E12: M | F12: M | G12: M | H12: M | I12: M | J12: M | K12: M | L12: M | M12: M | N12: M | O12: M | P12: M | Q12: M | R12: M | S12: M | T12: M | U12: M | V12: M | W12: M | X12: M | Y12: M | Z12: M | AA12: M | AB12: M | AC12: M | BM12: =CountryCode & ".T2.F4.S1312.MNAC." & RefVintage -> HU.T2.F4.S1312.MNAC.S.2025
A13: T2.F5.S1312 | B13: A.N.@@._Z.S1312._Z.N.A.F.F5.T._Z.XDC._T.S.V.N._T.EDP2 | C13: Equities (+/-) | D13: M | E13: M | F13: M | G13: M | H13: M | I13: M | J13: M | K13: M | L13: M | M13: M | N13: M | O13: M | P13: M | Q13: M | R13: M | S13: M | T13: M | U13: M | V13: M | W13: M | X13: M | Y13: M | Z13: M | AA13: M | AB13: M | AC13: M | BM13: =CountryCode & ".T2.F5.S1312.MNAC." & RefVintage -> HU.T2.F5.S1312.MNAC.S.2025
A14: T2.OFT.S1312 | B14: A.N.@@._Z.S1312._Z._Z.N.F.FNDX.T._Z.XDC._T.S.V.N._T.EDP2 | C14: Other financial transactions (+/-) | D14: M | E14: M | F14: M | G14: M | H14: M | I14: M | J14: M | K14: M | L14: M | M14: M | N14: M | O14: M | P14: M | Q14: M | R14: M | S14: M | T14: M | U14: M | V14: M | W14: M | X14: M | Y14: M | Z14: M | AA14: M | AB14: M | AC14: M | BM14: =CountryCode & ".T2.OFT.S1312.MNAC." & RefVintage -> HU.T2.OFT.S1312.MNAC.S.2025
A15: T2.OFTDL.S1312 | B15: A.N.@@._Z.S1312._Z._Z.L.F.FNDL.T._Z.XDC._T.S.V.N._T.EDP2 | C15: of which: transactions in debt liabilities (+/-) | D15: M | E15: M | F15: M | G15: M | H15: M | I15: M | J15: M | K15: M | L15: M | M15: M | N15: M | O15: M | P15: M | Q15: M | R15: M | S15: M | T15: M | U15: M | V15: M | W15: M | X15: M | Y15: M | Z15: M | AA15: M | AB15: M | AC15: M | BM15: =CountryCode & ".T2.OFTDL.S1312.MNAC." & RefVintage -> HU.T2.OFTDL.S1312.MNAC.S.2025
A16: T2.F71K.S1312 | B16: A.N.@@._Z.S1312._Z._Z.N.F.F71K.T._Z.XDC._T.S.V.N._T.EDP2 | C16: of which: net settlements under swap contracts (+/-) | D16: M | E16: M | F16: M | G16: M | H16: M | I16: M | J16: M | K16: M | L16: M | M16: M | N16: M | O16: M | P16: M | Q16: M | R16: M | S16: M | T16: M | U16: M | V16: M | W16: M | X16: M | Y16: M | Z16: M | AA16: M | AB16: M | AC16: M | BM16: =CountryCode & ".T2.F71K.S1312.MNAC." & RefVintage -> HU.T2.F71K.S1312.MNAC.S.2025
A17: T2.OFT1.S1312 | B17: A.N.@@._Z.S1312._Z._Z.N.F.FNDX.T._Z.XDC._T.S.V.N.C01.EDP2 | C17: Detail 1 | BM17: =CountryCode & ".T2.OFT1.S1312.MNAC." & RefVintage -> HU.T2.OFT1.S1312.MNAC.S.2025
A18: T2.OFT2.S1312 | B18: A.N.@@._Z.S1312._Z._Z.N.F.FNDX.T._Z.XDC._T.S.V.N.C02.EDP2 | C18: Detail 2 | BM18: =CountryCode & ".T2.OFT2.S1312.MNAC." & RefVintage -> HU.T2.OFT2.S1312.MNAC.S.2025
A20: T2.ONFT.S1312 | B20: A.N.@@._Z.S1312._Z._Z.B.ORNF._Z.T._Z.XDC._T.S.V.N._T.EDP2 | C20: Non-financial transactions not included in the working balance | D20: M | E20: M | F20: M | G20: M | H20: M | I20: M | J20: M | K20: M | L20: M | M20: M | N20: M | O20: M | P20: M | Q20: M | R20: M | S20: M | T20: M | U20: M | V20: M | W20: M | X20: M | Y20: M | Z20: M | AA20: M | AB20: M | AC20: M | BM20: =CountryCode & ".T2.ONFT.S1312.MNAC." & RefVintage -> HU.T2.ONFT.S1312.MNAC.S.2025
A21: T2.ONFT1.S1312 | B21: A.N.@@._Z.S1312._Z._Z.B.ORNF._Z.T._Z.XDC._T.S.V.N.C01.EDP2 | C21: Detail 1 | BM21: =CountryCode & ".T2.ONFT1.S1312.MNAC." & RefVintage -> HU.T2.ONFT1.S1312.MNAC.S.2025
A22: T2.ONFT2.S1312 | B22: A.N.@@._Z.S1312._Z._Z.B.ORNF._Z.T._Z.XDC._T.S.V.N.C02.EDP2 | C22: Detail 2 | BM22: =CountryCode & ".T2.ONFT2.S1312.MNAC." & RefVintage -> HU.T2.ONFT2.S1312.MNAC.S.2025
A24: T2.D41DIF.S1312 | B24: A.N.@@._Z.S1312._Z._Z.B.ORD41A._Z.T._Z.XDC._T.S.V.N._T.EDP2 | C24: Difference between interest paid (+) and accrued (D.41)(-) | D24: M | E24: M | F24: M | G24: M | H24: M | I24: M | J24: M | K24: M | L24: M | M24: M | N24: M | O24: M | P24: M | Q24: M | R24: M | S24: M | T24: M | U24: M | V24: M | W24: M | X24: M | Y24: M | Z24: M | AA24: M | AB24: M | AC24: M | BM24: =CountryCode & ".T2.D41DIF.S1312.MNAC." & RefVintage -> HU.T2.D41DIF.S1312.MNAC.S.2025
A26: T2.F8ASS.S1312 | B26: A.N.@@._Z.S1312._Z._Z.A.F.F8.T._Z.XDC._T.S.V.N._T.EDP2 | C26: Other accounts receivable (+) | D26: M | E26: M | F26: M | G26: M | H26: M | I26: M | J26: M | K26: M | L26: M | M26: M | N26: M | O26: M | P26: M | Q26: M | R26: M | S26: M | T26: M | U26: M | V26: M | W26: M | X26: M | Y26: M | Z26: M | AA26: M | AB26: M | AC26: M | BM26: =CountryCode & ".T2.F8ASS.S1312.MNAC." & RefVintage -> HU.T2.F8ASS.S1312.MNAC.S.2025
A27: T2.F8ASS1.S1312 | B27: A.N.@@._Z.S1312._Z._Z.A.F.F8.T._Z.XDC._T.S.V.N.C01.EDP2 | C27: Detail 1 | BM27: =CountryCode & ".T2.F8ASS1.S1312.MNAC." & RefVintage -> HU.T2.F8ASS1.S1312.MNAC.S.2025
A28: T2.F8ASS2.S1312 | B28: A.N.@@._Z.S1312._Z._Z.A.F.F8.T._Z.XDC._T.S.V.N.C02.EDP2 | C28: Detail 2 | BM28: =CountryCode & ".T2.F8ASS2.S1312.MNAC." & RefVintage -> HU.T2.F8ASS2.S1312.MNAC.S.2025
A29: T2.F8LIA.S1312 | B29: A.N.@@._Z.S1312._Z._Z.L.F.F8.T._Z.XDC._T.S.V.N._T.EDP2 | C29: Other accounts payable (-) | D29: M | E29: M | F29: M | G29: M | H29: M | I29: M | J29: M | K29: M | L29: M | M29: M | N29: M | O29: M | P29: M | Q29: M | R29: M | S29: M | T29: M | U29: M | V29: M | W29: M | X29: M | Y29: M | Z29: M | AA29: M | AB29: M | AC29: M | BM29: =CountryCode & ".T2.F8LIA.S1312.MNAC." & RefVintage -> HU.T2.F8LIA.S1312.MNAC.S.2025
A30: T2.F8LIA1.S1312 | B30: A.N.@@._Z.S1312._Z._Z.L.F.F8.T._Z.XDC._T.S.V.N.C01.EDP2 | C30: Detail 1 | BM30: =CountryCode & ".T2.F8LIA1.S1312.MNAC." & RefVintage -> HU.T2.F8LIA1.S1312.MNAC.S.2025
A31: T2.F8LIA2.S1312 | B31: A.N.@@._Z.S1312._Z._Z.L.F.F8.T._Z.XDC._T.S.V.N.C02.EDP2 | C31: Detail 2 | BM31: =CountryCode & ".T2.F8LIA2.S1312.MNAC." & RefVintage -> HU.T2.F8LIA2.S1312.MNAC.S.2025
A33: T2.B9_OWB.S1312 | B33: A.N.@@._Z.S1312._Z._Z.B.ORWB_E._Z.T._Z.XDC._T.S.V.N._T.EDP2 | C33: Working balance (+/-) of entities not part of state government | D33: M | E33: M | F33: M | G33: M | H33: M | I33: M | J33: M | K33: M | L33: M | M33: M | N33: M | O33: M | P33: M | Q33: M | R33: M | S33: M | T33: M | U33: M | V33: M | W33: M | X33: M | Y33: M | Z33: M | AA33: M | AB33: M | AC33: M | BM33: =CountryCode & ".T2.B9_OWB.S1312.MNAC." & RefVintage -> HU.T2.B9_OWB.S1312.MNAC.S.2025
A34: T2.B9_OB.S1312 | B34: A.N.@@._Z.S13122._Z._Z.B.B9._Z._Z._Z.XDC._T.S.V.N._T.EDP2 | C34: Net lending (+)/ net borrowing (-) of other state government bodies | D34: M | E34: M | F34: M | G34: M | H34: M | I34: M | J34: M | K34: M | L34: M | M34: M | N34: M | O34: M | P34: M | Q34: M | R34: M | S34: M | T34: M | U34: M | V34: M | W34: M | X34: M | Y34: M | Z34: M | AA34: M | AB34: M | AC34: M | BM34: =CountryCode & ".T2.B9_OB.S1312.MNAC." & RefVintage -> HU.T2.B9_OB.S1312.MNAC.S.2025
A35: T2.B9_OB1.S1312 | B35: A.N.@@._Z.S13122._Z._Z.B.B9._Z._Z._Z.XDC._T.S.V.N.C01.EDP2 | C35: Detail 1 | BM35: =CountryCode & ".T2.B9_OB1.S1312.MNAC." & RefVintage -> HU.T2.B9_OB1.S1312.MNAC.S.2025
A36: T2.B9_OB2.S1312 | B36: A.N.@@._Z.S13122._Z._Z.B.B9._Z._Z._Z.XDC._T.S.V.N.C02.EDP2 | C36: Detail 2 | BM36: =CountryCode & ".T2.B9_OB2.S1312.MNAC." & RefVintage -> HU.T2.B9_OB2.S1312.MNAC.S.2025
A38: T2.OA.S1312 | B38: A.N.@@._Z.S1312._Z._Z._X.OROA._Z.T._Z.XDC._T.S.V.N._T.EDP2 | C38: Other adjustments (+/-) (please detail) | D38: M | E38: M | F38: M | G38: M | H38: M | I38: M | J38: M | K38: M | L38: M | M38: M | N38: M | O38: M | P38: M | Q38: M | R38: M | S38: M | T38: M | U38: M | V38: M | W38: M | X38: M | Y38: M | Z38: M | AA38: M | AB38: M | AC38: M | BM38: =CountryCode & ".T2.OA.S1312.MNAC." & RefVintage -> HU.T2.OA.S1312.MNAC.S.2025
A39: T2.OA1.S1312 | B39: A.N.@@._Z.S1312._Z._Z._X.OROA._Z.T._Z.XDC._T.S.V.N.C01.EDP2 | C39: Detail 1 | BM39: =CountryCode & ".T2.OA1.S1312.MNAC." & RefVintage -> HU.T2.OA1.S1312.MNAC.S.2025
A40: T2.OA2.S1312 | B40: A.N.@@._Z.S1312._Z._Z._X.OROA._Z.T._Z.XDC._T.S.V.N.C02.EDP2 | C40: Detail 2 | BM40: =CountryCode & ".T2.OA2.S1312.MNAC." & RefVintage -> HU.T2.OA2.S1312.MNAC.S.2025
A41: T2.OA3.S1312 | B41: A.N.@@._Z.S1312._Z._Z._X.OROA._Z.T._Z.XDC._T.S.V.N.C03.EDP2 | C41: Detail 3 | BM41: =CountryCode & ".T2.OA3.S1312.MNAC." & RefVintage -> HU.T2.OA3.S1312.MNAC.S.2025
A43: T2.B9.S1312 | B43: A.N.@@._Z.S1312._Z._Z.B.B9._Z._Z._Z.XDC._T.S.V.N._T.EDP2 | C43: Net lending (+)/ net borrowing (-) (B.9) of state government (S.1312) | D43: M | E43: M | F43: M | G43: M | H43: M | I43: M | J43: M | K43: M | L43: M | M43: M | N43: M | O43: M | P43: M | Q43: M | R43: M | S43: M | T43: M | U43: M | V43: M | W43: M | X43: M | Y43: M | Z43: M | AA43: M | AB43: M | AC43: M | BM43: =CountryCode & ".T2.B9.S1312.MNAC." & RefVintage -> HU.T2.B9.S1312.MNAC.S.2025
C44: (ESA 2010 accounts)
C46: (1) Please indicate accounting basis of the working balance: cash, accrual, mixed, other.
C47: Note: Member States can adapt tables 2A, B, C and D to their national specificity according to the established practice
