Workbook
Name _TAB1: '1. Tábla'!$B$1:$AK$38
Name _TAB4: '4. Tábla'!$C$1:$AK$31
Name CodeRng1: '1. Tábla'!$BM$8:$BM$35
Name CodeRng1: '2A Tábla'!$BM$8:$BM$112
Name CodeRng1: '2B Tábla'!$BM$8:$BM$43
Name CodeRng1: '2C Tábla'!$BM$8:$BM$49
Name CodeRng1: '2D Tábla'!$BM$8:$BM$45
Name CodeRng1: '3A Tábla'!$BM$10:$BM$48
Name CodeRng1: '3B Tábla'!$BM$10:$BM$53
Name CodeRng1: '3C Tábla'!$BM$10:$BM$53
Name CodeRng1: '3D Tábla'!$BM$10:$BM$53
Name CodeRng1: '3E Tábla'!$BM$10:$BM$53
Name CodeRng1: '4. Tábla'!$BL$8:$BL$38
Name CountryArray: Fedőlap!$BA$1:$BC$39
Name CountryCode: readme!$B$2
Name COVER: Fedőlap!$A$1:$N$42
Name DataRng1: '1. Tábla'!$E$8:$AA$35
Name DataRng1: '2A Tábla'!$D$8:$Z$112
Name DataRng1: '2B Tábla'!$D$8:$Z$43
Name DataRng1: '2C Tábla'!$D$8:$Z$49
Name DataRng1: '2D Tábla'!$D$8:$Z$45
Name DataRng1: '3A Tábla'!$D$10:$Z$48
Name DataRng1: '3B Tábla'!$D$10:$Z$53
Name DataRng1: '3C Tábla'!$D$10:$Z$53
Name DataRng1: '3D Tábla'!$D$10:$Z$53
Name DataRng1: '3E Tábla'!$D$10:$Z$53
Name DataRng1: '4. Tábla'!$F$8:$AB$38
Name Domain: readme!$B$5
Name FileType: readme!$B$1
Name OK_to_loadQ: readme!$B$3
Name RefVintage: readme!$B$4
Name StatusTable: readme!$A$12:$B$21
Name TAB2A: '2A Tábla'!$A$1:$AL$117
Name TAB2B: '2B Tábla'!$B$1:$AL$48
Name TAB2C: '2C Tábla'!$B$1:$AL$54
Name TAB2D: '2D Tábla'!$B$1:$AL$50
Name TAB3A: '3B Tábla'!$B$2:$AM$62
Name TAB3B: '3C Tábla'!$B$2:$AM$62
Name TAB3C: '3D Tábla'!$B$1:$AM$62
Name TAB3D: '3E Tábla'!$B$1:$AM$63
Name TAB3E: '3A Tábla'!$B$2:$AM$57
Name TimeRng1: '1. Tábla'!$E$5:$AA$5
Name TimeRng1: '2A Tábla'!$D$5:$Z$5
Name TimeRng1: '2B Tábla'!$D$5:$Z$5
Name TimeRng1: '2C Tábla'!$D$5:$Z$5
Name TimeRng1: '2D Tábla'!$D$5:$Z$5
Name TimeRng1: '3A Tábla'!$D$7:$Z$7
Name TimeRng1: '3B Tábla'!$D$7:$Z$7
Name TimeRng1: '3C Tábla'!$D$7:$Z$7
Name TimeRng1: '3D Tábla'!$D$7:$Z$7
Name TimeRng1: '3E Tábla'!$D$7:$Z$7
Name TimeRng1: '4. Tábla'!$F$6:$AB$6

Sheet Fedőlap
N1: Oct.2016 | O1: COVERAGE summary: | BA1: ="Member State: "&BC1 -> Member State: XXXX | BB1: ZZ | BC1: XXXX
O2: T1 | P2: =IF(LEFT('1. Tábla'!E41,2)="OK","OK","not fully completed!") -> not fully completed! | Q2: T3A | R2: =IF(LEFT('3A Tábla'!D59,2)="OK","OK","not fully completed!") -> not fully completed! | BA2: ="Member State: "&BC2 -> Member State: Austria | BB2: AT | BC2: Austria
O3: T2A | P3: =IF(LEFT('2A Tábla'!D120,2)="OK","OK","not fully completed!") -> not fully completed! | Q3: T3B | R3: =IF(LEFT('3B Tábla'!D64,2)="OK","OK","not fully completed!") -> not fully completed! | BA3: ="Member State: "&BC3 -> Member State: Belgium | BB3: BE | BC3: Belgium
C4: Jelentés a kormányzati hiányról és adósságról | O4: T2B | P4: =IF(LEFT('2B Tábla'!D51,2)="OK","OK","not fully completed!") -> not fully completed! | Q4: T3C | R4: =IF(LEFT('3C Tábla'!D64,2)="OK","OK","not fully completed!") -> not fully completed! | BA4: ="Member State: "&BC4 -> Member State: Bulgaria | BB4: BG | BC4: Bulgaria
C5: a 479/2009/EK számú Tanácsi Rendelettel, a Bizottság azt módosító 220/2014/EU rendeletével, és | O5: T2C | P5: =IF(LEFT('2C Tábla'!D57,2)="OK","OK","not fully completed!") -> not fully completed! | Q5: T3D | R5: =IF(LEFT('3D Tábla'!D64,2)="OK","OK","not fully completed!") -> not fully completed! | BA5: ="Member State: "&BC5 -> Member State: Croatia | BB5: HR | BC5: Croatia
C6: a Tanács 1993. november 22-én kelt 3605/93/EK rendeletével összhangban | O6: T2D | P6: =IF(LEFT('2D Tábla'!D53,2)="OK","OK","not fully completed!") -> not fully completed! | Q6: T3E | R6: =IF(LEFT('3E Tábla'!D64,2)="OK","OK","not fully completed!") -> not fully completed! | BA6: ="Member State: "&BC6 -> Member State: Cyprus | BB6: CY | BC6: Cyprus
Q7: T4 | R7: =IF(LEFT('4. Tábla'!F44,2)="OK","OK","not fully completed!") -> not fully completed! | BA7: ="Member State: "&BC7 -> Member State: The Czech Republic | BB7: CZ | BC7: The Czech Republic
BA8: ="Member State: "&BC8 -> Member State: Denmark | BB8: DK | BC8: Denmark
BA9: ="Member State: "&BC9 -> Member State: Estonia | BB9: EE | BC9: Estonia
C10: a 479/2009/EK számú Tanácsi Rendelettel és a Bizottság azt módosító 220/2014/EU rendeletével összhangban lévő, módosított táblasorozat | BA10: ="Member State: "&BC10 -> Member State: Finland | BB10: FI | BC10: Finland
BA11: ="Member State: "&BC11 -> Member State: France | BB11: FR | BC11: France
E13: Visszamenőleges adatok 1995-2020 | BA13: ="Member State: "&BC13 -> Member State: Germany | BB13: DE | BC13: Germany
E14: Ország: Magyarország
E15: Dátum: 2025.10.10.
E16: Ezt az információt csak a fedőlapon kell megadni. | BA16: ="Member State: "&BC16 -> Member State: Ireland | BB16: IE | BC16: Ireland
BA17: ="Member State: "&BC17 -> Member State: Italy | BB17: IT | BC17: Italy
C18: 1. tábla: A kormányzati hiány/többlet, az adósság és a hozzájuk kapcsolódó adatok jelentése | BA18: ="Member State: "&BC18 -> Member State: Latvia | BB18: LV | BC18: Latvia
BA19: ="Member State: "&BC19 -> Member State: Lithuania | BB19: LT | BC19: Lithuania
C20: 2A - 2D táblák: Adatszolgáltatás a nemzeti definíció szerinti hivatalos költségvetési egyenleg és a kormányzati hiány/többlet (EDP B.9) közötti átmenet magyarázatára alszektoronként | BA20: ="Member State: "&BC20 -> Member State: Luxembourg | BB20: LU | BC20: Luxembourg
BA21: ="Member State: "&BC21 -> Member State: Malta | BB21: MT | BC21: Malta
BA22: ="Member State: "&BC22 -> Member State: The Netherlands | BB22: NL | BC22: The Netherlands
C23: 3A - 3E táblák: Adatszolgáltatás a kormányzati hiány/többlet és egyéb tényezők adósság-változásra gyakorolt hatásáról és az alszektorok adósságának konszolidációjáról (a központi kormányzat illetve a kormányzat más alszektorai között) | BA23: ="Member State: "&BC23 -> Member State: Poland | BB23: PL | BC23: Poland
BA24: ="Member State: "&BC24 -> Member State: Portugal | BB24: PT | BC24: Portugal
BA25: ="Member State: "&BC25 -> Member State: Romania | BB25: RO | BC25: Romania
C26: 4. tábla Egyéb adatszolgáltatás az 1993. november 22-én kelt Tanácsi Jegyzőkönyv közleményének megfelelően | BA26: ="Member State: "&BC26 -> Member State: The Slovak Republic | BB26: SK | BC26: The Slovak Republic
BA27: ="Member State: "&BC27 -> Member State: Slovenia | BB27: SI | BC27: Slovenia
BA28: ="Member State: "&BC28 -> Member State: Spain | BB28: ES | BC28: Spain
C29: Sárga és vörös cellák: kötelező adatszolgáltatás; zöld cellák: kész algoritmus; kék cellák: önkéntes adatszolgáltatás | BA29: ="Member State: "&BC29 -> Member State: Sweden | BB29: SE | BC29: Sweden
C30: Szürke cellák: olyan évek, amelyekre még nem vonatkozik a korábbi EDP-adatok jelentése - kérjük, ne töltse ki ezeket a cellákat!
C31: Nem releváns: M ; Nem elérhető: L | BA31: ="Member State: "&BC31 -> Member State: United Kingdom | BB31: UK | BC31: United Kingdom
C32: Minden „függőleges és vízszintes ellenőrzés” cellához „Ezres csoportosítás” formátum kerül alkalmazásra. Így a „0.00” (nulla) értékű cella „-”-ként jelenik meg. Továbbá 1000-es elválasztás alkalmazott. | BA32: ="Member State: "&BC32 -> Member State: Albania | BB32: AL | BC32: Albania
BA33: ="Member State: "&BC33 -> Member State: Iceland | BB33: IS | BC33: Iceland
BA34: ="Member State: "&BC34 -> Member State: The former Yugoslav Republic of Macedonia | BB34: MK | BC34: The former Yugoslav Republic of Macedonia
BA35: ="Member State: "&BC35 -> Member State: Montenegro | BB35: ME | BC35: Montenegro
BA36: ="Member State: "&BC36 -> Member State: Norway | BB36: NO | BC36: Norway
BA37: ="Member State: "&BC37 -> Member State: Serbia | BB37: RS | BC37: Serbia
BA38: ="Member State: "&BC38 -> Member State: Switzerland | BB38: CH | BC38: Switzerland
BA39: ="Member State: "&BC39 -> Member State: Turkey | BB39: TR | BC39: Turkey

Sheet readme
A1: Type | B1: histo | C1: << e.g. Histo, quest, notif (only used in the output csv filename)
A2: Country code | B2: =VLOOKUP(Fedőlap!#REF!,CountryArray,2,FALSE) -> #REF! | C2: << this must correspond to the country code in the filename! If ok, it is used for Fame codes. If not, loading does not proceed
A3: OK to load? | B3: =IF( COUNTIF(Fedőlap!$P$2:$R$7,"not fully completed*") > 0, "no", "yes") -> no | C3: << this can be any kind of check, if "yes", loading will proceed
A4: Vintage | B4: S.2016 | C4: << Named "RefVintage", these are used for Fame codes to be loaded, enough to change before each notification
A5: Domain | B5: EDP | C5: << domain name
A8: Note: | B8: "Vintage" is used internally in this workbook (for creating the formulas), the remaining parameters are used by the macro "FameLoader"
A11: This is used for qualitative information regarding availability / status of the data (if error, use -1):
A12: (1) | B12: 0
A13: estimated | B13: 1
A14: half-finalized | B14: 2
A15: final | B15: 3
A16: planned | B16: 4
A17: forecast | B17: 5
A18: cash | B18: 10
A19: accrual | B19: 11
A20: mixed | B20: 12
A21: other | B21: 13

Sheet 1. Tábla
C1: 1.tábla. A kormányzati hiány/többlet, adósság és a hozzájuk kapcsolódó adatok jelentése | AL1: =Fedőlap!$N$1 -> Oct.2016 | AM1: estimated | AN1: 4 | AO1: 5 | AP1: 6 | AQ1: 7 | AR1: =AQ1+1 -> 8 | AS1: =AR1+1 -> 9 | AT1: =AS1+1 -> 10 | AU1: =AT1+1 -> 11 | AV1: =AU1+1 -> 12 | AW1: =AV1+1 -> 13 | AX1: =AW1+1 -> 14 | AY1: =AX1+1 -> 15 | ... BC1: =BB1+1 -> 19
AM2: half-finalized
AM3: final
C4: Tagország: Magyarország | E4: Year
B5: SDMX series | C5: Adatok millió forintban | D5: ESA 2010- | E5: 1995 | F5: =E5+1 -> 1996 | G5: =F5+1 -> 1997 | H5: =G5+1 -> 1998 | I5: =H5+1 -> 1999 | J5: =I5+1 -> 2000 | K5: =J5+1 -> 2001 | L5: =K5+1 -> 2002 | M5: =L5+1 -> 2003 | ... V5: =U5+1 -> 2012 | W5: 2013 | X5: 2014 | Y5: 2015 | Z5: 2016 | AA5: 2017 | AB5: 2018 | AC5: 2019 | AD5: 2020
C6: =Fedőlap!E15 -> Dátum: 2025.10.10. | D6: kódok
E8: végleges | F8: végleges | G8: végleges | H8: végleges | I8: végleges | J8: végleges | K8: végleges | L8: végleges | M8: végleges | N8: végleges | O8: végleges | P8: végleges | Q8: végleges | R8: végleges | S8: végleges | T8: végleges | U8: végleges | V8: végleges | W8: végleges | X8: végleges | Y8: végleges | Z8: végleges | AA8: végleges | AB8: végleges | AC8: végleges | AD8: végleges | AE8: (1) | AF8: (1) | AG8: (1) | AH8: (1) | AI8: (1) | AJ8: (1)
C9: Nettó hitelfelvétel (–)/ nettó hitelnyújtás (+) | D9: B.9 | E9: =IFERROR(VLOOKUP(E8,StatusTable,2,FALSE), -1) -> -1 | F9: =IFERROR(VLOOKUP(F8,StatusTable,2,FALSE), -1) -> -1 | G9: =IFERROR(VLOOKUP(G8,StatusTable,2,FALSE), -1) -> -1 | H9: =IFERROR(VLOOKUP(H8,StatusTable,2,FALSE), -1) -> -1 | I9: =IFERROR(VLOOKUP(I8,StatusTable,2,FALSE), -1) -> -1 | J9: =IFERROR(VLOOKUP(J8,StatusTable,2,FALSE), -1) -> -1 | K9: =IFERROR(VLOOKUP(K8,StatusTable,2,FALSE), -1) -> -1 | L9: =IFERROR(VLOOKUP(L8,StatusTable,2,FALSE), -1) -> -1 | ... W9: =IFERROR(VLOOKUP(W8,StatusTable,2,FALSE), -1) -> -1 | Y9: =IFERROR(VLOOKUP(Y8,StatusTable,2,FALSE), -1) -> -1 | Z9: =IFERROR(VLOOKUP(Z8,StatusTable,2,FALSE), -1) -> -1 | AA9: =IFERROR(VLOOKUP(AA8,StatusTable,2,FALSE), -1) -> -1 | AB9: =IFERROR(VLOOKUP(AB8,StatusTable,2,FALSE), -1) -> -1 | BM9: =CountryCode & ".T1.B9_STATUS.S13.MNAC." & RefVintage -> #VALUE!
A10: T1.B9.S13 | B10: A.N.@@._Z.S13._Z._Z.B.B9._Z._Z._Z.XDC._T.S.V.N._T.EDP1 | C10: Kormányzati szektor | D10: S.13 | E10: =+E11+E13+E14 -> -501876.34 | F10: =+F11+F13+F14 -> -311702 | G10: =+G11+G13+G14 -> -490380.84 | H10: =+H11+H13+H14 -> -775309.61 | I10: =+I11+I13+I14 -> -614070 | J10: =+J11+J13+J14 -> -405236 | K10: =+K11+K13+K14 -> -615856 | L10: =+L11+L13+L14 -> -1533781 | ... AC10: =+AC11+AC13+AC14 -> -970454.92 | AD10: -3654169.2 | BM10: =CountryCode & ".T1.B9.S13.MNAC." & RefVintage -> #VALUE!
A11: T1.B9.S1311 | B11: A.N.@@._Z.S1311._Z._Z.B.B9._Z._Z._Z.XDC._T.S.V.N._T.EDP1 | C11: - Központi kormányzat | D11: S.1311 | E11: =+'2A Tábla'!D112 -> -509787.34 | F11: =+'2A Tábla'!E112 -> -380270 | G11: =+'2A Tábla'!F112 -> -497292.84 | H11: =+'2A Tábla'!G112 -> -708854.61 | I11: =+'2A Tábla'!H112 -> -595541 | J11: =+'2A Tábla'!I112 -> -354854 | K11: =+'2A Tábla'!J112 -> -703875 | L11: =+'2A Tábla'!K112 -> -1332869 | ... AC11: =+'2A Tábla'!AB112 -> -790839.66 | AD11: -3249169.4 | BM11: =CountryCode & ".T1.B9.S1311.MNAC." & RefVintage -> #VALUE!
A12: T1.B9.S1312 | B12: A.N.@@._Z.S1312._Z._Z.B.B9._Z._Z._Z.XDC._T.S.V.N._T.EDP1 | C12: - Állami/tartományi kormányzat (szövetségi államokban) | D12: S.1312 | E12: M | F12: M | G12: M | H12: M | I12: M | J12: M | K12: M | L12: M | M12: M | N12: M | O12: M | P12: M | Q12: M | R12: M | S12: M | T12: M | U12: M | V12: M | W12: M | X12: M | Y12: M | Z12: M | AA12: M | AB12: M | AC12: M | AD12: M | BM12: =CountryCode & ".T1.B9.S1312.MNAC." & RefVintage -> #VALUE!
A13: T1.B9.S1313 | B13: A.N.@@._Z.S1313._Z._Z.B.B9._Z._Z._Z.XDC._T.S.V.N._T.EDP1 | C13: - Helyi önkormányzat | D13: S.1313 | E13: =+'2C Tábla'!D49 -> 7797 | F13: =+'2C Tábla'!E49 -> 26976 | G13: =+'2C Tábla'!F49 -> -1808 | H13: =+'2C Tábla'!G49 -> -31033 | I13: =+'2C Tábla'!H49 -> 252 | J13: =+'2C Tábla'!I49 -> -35845 | K13: =+'2C Tábla'!J49 -> 17530 | L13: =+'2C Tábla'!K49 -> -149560 | ... AC13: =+'2C Tábla'!AB49 -> -42989.258 | AD13: 51203.03 | BM13: =CountryCode & ".T1.B9.S1313.MNAC." & RefVintage -> #VALUE!
A14: T1.B9.S1314 | B14: A.N.@@._Z.S1314._Z._Z.B.B9._Z._Z._Z.XDC._T.S.V.N._T.EDP1 | C14: - Társadalombiztosítási alapok | D14: S.1314 | E14: =+'2D Tábla'!D45 -> 114 | F14: =+'2D Tábla'!E45 -> 41592 | G14: =+'2D Tábla'!F45 -> 8720 | H14: =+'2D Tábla'!G45 -> -35422 | I14: =+'2D Tábla'!H45 -> -18781 | J14: =+'2D Tábla'!I45 -> -14537.003 | K14: =+'2D Tábla'!J45 -> 70489 | L14: =+'2D Tábla'!K45 -> -51352 | ... AC14: =+'2D Tábla'!AB45 -> -136626 | AD14: -456202.86 | BM14: =CountryCode & ".T1.B9.S1314.MNAC." & RefVintage -> #VALUE!
E16: végleges | F16: végleges | G16: végleges | H16: végleges | I16: végleges | J16: végleges | K16: végleges | L16: végleges | M16: végleges | N16: végleges | O16: végleges | P16: végleges | Q16: végleges | R16: végleges | S16: végleges | T16: végleges | U16: végleges | V16: végleges | W16: végleges | X16: végleges | Y16: végleges | Z16: végleges | AA16: végleges | AB16: végleges | AC16: végleges | AD16: végleges | AE16: (1) | AF16: (1) | AG16: (1) | AH16: (1) | AI16: (1) | AJ16: (1)
C17: Kormányzati szektor konszolidált bruttó adóssága | E17: =IFERROR(VLOOKUP(E16,StatusTable,2,FALSE), -1) -> -1 | F17: =IFERROR(VLOOKUP(F16,StatusTable,2,FALSE), -1) -> -1 | G17: =IFERROR(VLOOKUP(G16,StatusTable,2,FALSE), -1) -> -1 | H17: =IFERROR(VLOOKUP(H16,StatusTable,2,FALSE), -1) -> -1 | I17: =IFERROR(VLOOKUP(I16,StatusTable,2,FALSE), -1) -> -1 | J17: =IFERROR(VLOOKUP(J16,StatusTable,2,FALSE), -1) -> -1 | K17: =IFERROR(VLOOKUP(K16,StatusTable,2,FALSE), -1) -> -1 | L17: =IFERROR(VLOOKUP(L16,StatusTable,2,FALSE), -1) -> -1 | ... U17: =IFERROR(VLOOKUP(U16,StatusTable,2,FALSE), -1) -> -1 | BM17: =CountryCode & ".T1.DEBT_STATUS.S13.MNAC." & RefVintage -> #VALUE!
A18: T1.DEBT.S13 | B18: A.N.@@._Z.S13._Z.C.L.LE.GD.T._Z.XDC._T.F.V.N._T.EDP1 | C18: Állomány névértéken, év végén | E18: 4910985 | F18: 5087831 | G18: 5506525 | H18: 6319828 | I18: 7029460 | J18: 7422219 | K18: 8046338 | L18: 9689629 | M18: 11116431 | N18: 12422728 | O18: 13674097 | P18: 15684968 | Q18: 16873887 | R18: 19553724 | S18: 20694740 | T18: 21989864 | U18: 22927097 | V18: 22662231 | W18: 23431201 | X18: 25109361 | Y18: 26491901 | Z18: 27105326 | AA18: 28322513 | AB18: 29972179 | AC18: 31155776 | AD18: 38405172 | BM18: =CountryCode & ".T1.DEBT.S13.MNAC." & RefVintage -> #VALUE!
C19: Instrumentumonként:
A20: T1.AF2.S13 | B20: A.N.@@._Z.S13._Z.C.L.LE.F2.T._Z.XDC._T.F.V.N._T.EDP1 | C20: Készpénz és betétek | D20: AF.2 | E20: 460 | F20: 5900 | G20: 22600 | H20: 19611 | I20: 19462 | J20: 23064 | K20: 36286 | L20: 37331 | M20: 18938 | N20: 43495 | O20: 33082 | P20: 24663 | Q20: 36761 | R20: 43062 | S20: 16626 | T20: 23689 | U20: 23358 | V20: 34249 | W20: 68600 | X20: 66175 | Y20: 164762 | Z20: 180782 | AA20: 148085 | AB20: 176317 | AC20: 200826 | AD20: 350007 | BM20: =CountryCode & ".T1.AF2.S13.MNAC." & RefVintage -> #VALUE!
A21: T1.AF3.S13 | B21: A.N.@@._Z.S13._Z.C.L.LE.F3.T._Z.XDC._T.F.V.N._T.EDP1 | C21: Értékpapírok a részvények és a pénzügyi derivatívák kivételével | D21: AF.3 | E21: 1708346 | F21: 2499053 | G21: 2651536 | H21: 3306034 | I21: 4473679 | J21: 5107730 | K21: 6062645 | L21: 7460026 | M21: 9307565 | N21: 10799339 | O21: 12085981 | P21: 13663955 | Q21: 14955654 | R21: 15750305 | S21: 15032831 | T21: 15711907 | U21: 16232980 | V21: 17302248 | W21: 19070632 | X21: 21304344 | Y21: 22204069 | Z21: 23225407 | AA21: 24847204 | AB21: 26381435 | AC21: 27146642 | AD21: 33228016 | BM21: =CountryCode & ".T1.AF3.S13.MNAC." & RefVintage -> #VALUE!
A22: T1.AF31.S13 | B22: A.N.@@._Z.S13._Z.C.L.LE.F3.S._Z.XDC._T.F.V.N._T.EDP1 | C22: Rövid lejáratú | D22: AF.31 | E22: 465427 | F22: 750870 | G22: 920252 | H22: 1052638 | I22: 1251416 | J22: 1241678 | K22: 1494431 | L22: 1944942 | M22: 2046137 | N22: 2033012 | O22: 2043248 | P22: 2368653 | Q22: 2135417 | R22: 1951030 | S22: 2020031 | T22: 1861544 | U22: 1800734 | V22: 2597490 | W22: 3171946 | X22: 2975024 | Y22: 3019071 | Z22: 4039412 | AA22: 4683132 | AB22: 4934604 | AC22: 3101859 | AD22: 2011263 | BM22: =CountryCode & ".T1.AF31.S13.MNAC." & RefVintage -> #VALUE!
A23: T1.AF32.S13 | B23: A.N.@@._Z.S13._Z.C.L.LE.F3.L._Z.XDC._T.F.V.N._T.EDP1 | C23: Hosszú lejáratú | D23: AF.32 | E23: 1242919 | F23: 1748183 | G23: 1731284 | H23: 2253396 | I23: 3222263 | J23: 3866052 | K23: 4568214 | L23: 5515084 | M23: 7261428 | N23: 8766327 | O23: 10042733 | P23: 11295302 | Q23: 12820237 | R23: 13799275 | S23: 13012800 | T23: 13850363 | U23: 14432246 | V23: 14704758 | W23: 15898686 | X23: 18329320 | Y23: 19184998 | Z23: 19185995 | AA23: 20164072 | AB23: 21446831 | AC23: 24044783 | AD23: 31216753 | BM23: =CountryCode & ".T1.AF32.S13.MNAC." & RefVintage -> #VALUE!
A24: T1.AF4.S13 | B24: A.N.@@._Z.S13._Z.C.L.LE.F4.T._Z.XDC._T.F.V.N._T.EDP1 | C24: Hitelek | D24: AF.4 | E24: 3202179 | F24: 2582878 | G24: 2832389 | H24: 2994183 | I24: 2536319 | J24: 2291425 | K24: 1947407 | L24: 2192272 | M24: 1789928 | N24: 1579894 | O24: 1555034 | P24: 1996350 | Q24: 1881472 | R24: 3760357 | S24: 5645283 | T24: 6254268 | U24: 6670759 | V24: 5325734 | W24: 4291969 | X24: 3738842 | Y24: 4123070 | Z24: 3699137 | AA24: 3327224 | AB24: 3414427 | AC24: 3808308 | AD24: 4827149 | BM24: =CountryCode & ".T1.AF4.S13.MNAC." & RefVintage -> #VALUE!
A25: T1.AF41.S13 | B25: A.N.@@._Z.S13._Z.C.L.LE.F4.S._Z.XDC._T.F.V.N._T.EDP1 | C25: Rövid lejáratú | D25: AF.41 | E25: 36371 | F25: 22236 | G25: 48523 | H25: 46915 | I25: 52633 | J25: 69829 | K25: 75778 | L25: 146068 | M25: 117562 | N25: 137229 | O25: 110259 | P25: 144602 | Q25: 178692 | R25: 213604 | S25: 194455 | T25: 458364 | U25: 653595 | V25: 514994 | W25: 253868 | X25: 408899 | Y25: 838117 | Z25: 809353 | AA25: 365462 | AB25: 294133 | AC25: 305472 | AD25: 796231 | BM25: =CountryCode & ".T1.AF41.S13.MNAC." & RefVintage -> #VALUE!
A26: T1.AF42.S13 | B26: A.N.@@._Z.S13._Z.C.L.LE.F4.L._Z.XDC._T.F.V.N._T.EDP1 | C26: Hosszú lejáratú | D26: AF.42 | E26: 3165808 | F26: 2560642 | G26: 2783866 | H26: 2947268 | I26: 2483686 | J26: 2221596 | K26: 1871629 | L26: 2046204 | M26: 1672366 | N26: 1442665 | O26: 1444775 | P26: 1851748 | Q26: 1702780 | R26: 3546753 | S26: 5450828 | T26: 5795904 | U26: 6017164 | V26: 4810740 | W26: 4038101 | X26: 3329943 | Y26: 3284953 | Z26: 2889784 | AA26: 2961762 | AB26: 3120294 | AC26: 3502836 | AD26: 4030918 | BM26: =CountryCode & ".T1.AF42.S13.MNAC." & RefVintage -> #VALUE!
C30: Kormányzati szektor kiadásai
A31: T1.P51.S13 | B31: A.N.@@._Z.S13._Z._Z.D.P51G._Z.T._Z.XDC._T.S.V.N._T.EDP1 | C31: Bruttó állóeszközfelhalmozás | D31: P.51g | E31: =+'[1]Kormányzat szektor'!$C$133 -> 32771.341 | F31: =+'[2]Kormányzat szektor'!$C$133 -> 134351 | G31: =+'[3]Kormányzat szektor'!$C$133 -> 256669.84 | H31: =+'[4]Kormányzat szektor'!$C$133 -> 367320 | I31: =+'[5]Kormányzat szektor'!$C$133 -> 391414 | J31: =+'[6]Kormányzat szektor'!$C$134 -> 474622 | K31: =+[7]Kormányzatkonsz!$F$145 -> 603660 | L31: =+[8]Kormányzatkonsz!$F$145 -> 894534 | M31: =+[9]Kormányzatkonsz!$F$146 -> 721894 | N31: =+'[10]Kormányzat szektor'!$C$134 -> 800146 | O31: =+'[11]Kormányzat szektor'!$C$134 -> 938226 | P31: =+'[12]Kormányzat szektor'!$C$134 -> 1244256 | Q31: =+'[13]Kormányzat szektor'!$C$134 -> 1087857 | R31: =+'[14]Kormányzat szektor'!$C$134 -> 868936 | S31: =+'[15]Kormányzat szektor'!$C$134 -> 905164 | T31: =+'[16]Kormányzat szektor'!$C$134 -> 995609 | U31: =+'[17]Kormányzat szektor'!$C$134 -> 945642 | V31: =+'[18]Kormányzat szektor'!$C$134 -> 1071355 | W31: =+'[19]Kormányzat szektor'!$C$134 -> 1321490 | X31: =+'[20]Kormányzat szektor'!$C$134 -> 1747308 | Y31: =+'[21]Kormányzat szektor'!$C$134 -> 2279316.6 | Z31: =+'[22]Kormányzat szektor'!$C$134 -> 1143052.1 | AA31: =+'[23]Kormányzat szektor'!$C$134 -> 1780891 | AB31: =+'[24]Kormányzat szektor'!$C$134 -> 2515750.5 | AC31: =+'[25]Kormányzat szektor'!$C$134 -> 2982958.1 | AD31: 3129239.9 | BM31: =CountryCode & ".T1.P51.S13.MNAC." & RefVintage -> #VALUE!
A32: T1.ESAD41.S13 | B32: A.N.@@._Z.S13._Z.C.D.D41._Z._Z._Z.XDC._T.S.V.N._T.EDP1 | C32: Kamatok (konszolidált) | D32: D.41 (felhasználás) | E32: =+'[1]Kormányzat szektor'!$C$35 -> 510576 | F32: =+'[2]Kormányzat szektor'!$C$35 -> 644480 | G32: =+'[3]Kormányzat szektor'!$C$35 -> 745950 | H32: =+'[4]Kormányzat szektor'!$C$35 -> 737528 | I32: =+'[5]Kormányzat szektor'!$C$35 -> 779384 | J32: =+'[6]Kormányzat szektor'!$C$35 -> 704253 | K32: =+[7]Kormányzatkonsz!$F$34 -> 724255 | L32: =+[8]Kormányzatkonsz!$F$33 -> 697569 | M32: =+[9]Kormányzatkonsz!$F$34 -> 770625 | N32: =+'[10]Kormányzat szektor'!$C$35 -> 913812 | O32: =+'[11]Kormányzat szektor'!$C$35 -> 916575 | P32: =+'[12]Kormányzat szektor'!$C$35 -> 935718 | Q32: =+'[13]Kormányzat szektor'!$C$35 -> 1037437 | R32: =+'[14]Kormányzat szektor'!$C$35 -> 1105420 | S32: =+'[15]Kormányzat szektor'!$C$35 -> 1193945 | T32: =+'[16]Kormányzat szektor'!$C$35 -> 1124042 | U32: =+'[17]Kormányzat szektor'!$C$35 -> 1179821 | V32: =+'[18]Kormányzat szektor'!$C$35 -> 1319575 | W32: =+'[19]Kormányzat szektor'!$C$35 -> 1368755 | X32: =+'[20]Kormányzat szektor'!$C$35 -> 1300103.4 | Y32: =+'[21]Kormányzat szektor'!$C$35 -> 1202901.8 | Z32: =+'[22]Kormányzat szektor'!$C$35 -> 1118058.7 | AA32: =+'[23]Kormányzat szektor'!$C$35 -> 1039647.6 | AB32: =+'[24]Kormányzat szektor'!$C$35 -> 1011197.9 | AC32: =+'[25]Kormányzat szektor'!$C$35 -> 1060835 | AD32: 1127289.9 | BM32: =CountryCode & ".T1.ESAD41.S13.MNAC." & RefVintage -> #VALUE!
A35: T1.GDP.S1 | B35: A.N.@@._Z.S1._Z._Z.B.B1GQ._Z.T._Z.XDC._T.S.V.N._T.EDP1 | C35: Bruttó hazai termék piaci beszerzési áron | D35: B.1*g | E35: 5855584 | F35: 7149020 | G35: 8853540 | H35: 10459461 | I35: 11658136 | J35: 13340291 | K35: 15413047 | L35: 17440963 | M35: 19108793 | N35: 21088678 | O35: 22572429 | P35: 24321949 | Q35: 25730258 | R35: 27233189 | S35: 26467800 | T35: 27427573 | U35: 28492068 | V35: 28919193 | W35: 30343344 | X35: 32826770 | Y35: 34984755 | Z35: 36311882 | AA35: 39335929 | AB35: 43553984 | AC35: 47940496 | AD35: 48807766 | BM35: =CountryCode & ".T1.GDP.S1.MNAC." & RefVintage -> #VALUE!
C37: (1) Kérjük, jelezze, hogy az adatok végleges vagy előzetes számok!
C41: COVERAGE | E41: =IF(COUNTA(E10:AA14,E18:AA18,E20:AA26,E31:AA32,E35:AA35)/272*100=100,"OK - Table 1 is fully completed","WARNING - Table 1 is not fully completed, please fill in figure, L, M or 0") -> WARNING - Table 1 is not fully completed, please fill in figure, L, M or 0 | AD41: OK | AE41: OK | AF41: OK | AG41: OK | AH41: OK | AI41: OK | AJ41: OK
C42: VERTICAL CHECKS | AD42: 2020 | AE42: 2021 | AF42: 2022 | AG42: 2023 | AH42: 2024 | AI42: 2025 | AJ42: 2026
C43: T1.B9.S13=T1.B9.S1311+T1.B9.S1312+T1.B9.S1313+T1.B9.S1314 | E43: =IF(E10="M",0,E10)-IF(E11="M",0,E11)-IF(E12="M",0,E12)-IF(E13="M",0,E13)-IF(E14="M",0,E14) -> 0 | F43: =IF(F10="M",0,F10)-IF(F11="M",0,F11)-IF(F12="M",0,F12)-IF(F13="M",0,F13)-IF(F14="M",0,F14) -> 0 | G43: =IF(G10="M",0,G10)-IF(G11="M",0,G11)-IF(G12="M",0,G12)-IF(G13="M",0,G13)-IF(G14="M",0,G14) -> 0 | H43: =IF(H10="M",0,H10)-IF(H11="M",0,H11)-IF(H12="M",0,H12)-IF(H13="M",0,H13)-IF(H14="M",0,H14) -> 0 | I43: =IF(I10="M",0,I10)-IF(I11="M",0,I11)-IF(I12="M",0,I12)-IF(I13="M",0,I13)-IF(I14="M",0,I14) -> 0 | J43: =IF(J10="M",0,J10)-IF(J11="M",0,J11)-IF(J12="M",0,J12)-IF(J13="M",0,J13)-IF(J14="M",0,J14) -> 1.4551915e-11 | K43: =IF(K10="M",0,K10)-IF(K11="M",0,K11)-IF(K12="M",0,K12)-IF(K13="M",0,K13)-IF(K14="M",0,K14) -> 0 | L43: =IF(L10="M",0,L10)-IF(L11="M",0,L11)-IF(L12="M",0,L12)-IF(L13="M",0,L13)-IF(L14="M",0,L14) -> 0 | ... AA43: =IF(AA10="M",0,AA10)-IF(AA11="M",0,AA11)-IF(AA12="M",0,AA12)-IF(AA13="M",0,AA13)-IF(AA14="M",0,AA14) -> 0 | AC43: =IF(AC10="M",0,AC10)-IF(AC11="M",0,AC11)-IF(AC12="M",0,AC12)-IF(AC13="M",0,AC13)-IF(AC14="M",0,AC14) -> 0 | AD43: 0 | AE43: 0 | AF43: 0 | AG43: 0 | AH43: 0 | AI43: 0 | AJ43: 0
C44: T1.DEBT.S13=T1.AF2.S13+T1.AF3.S13+T1.AF4.S13 | E44: =IF(E18="M",0,E18)-IF(E20="M",0,E20)-IF(E21="M",0,E21)-IF(E24="M",0,E24) -> 0 | F44: =IF(F18="M",0,F18)-IF(F20="M",0,F20)-IF(F21="M",0,F21)-IF(F24="M",0,F24) -> 0 | G44: =IF(G18="M",0,G18)-IF(G20="M",0,G20)-IF(G21="M",0,G21)-IF(G24="M",0,G24) -> 0 | H44: =IF(H18="M",0,H18)-IF(H20="M",0,H20)-IF(H21="M",0,H21)-IF(H24="M",0,H24) -> 0 | I44: =IF(I18="M",0,I18)-IF(I20="M",0,I20)-IF(I21="M",0,I21)-IF(I24="M",0,I24) -> 0 | J44: =IF(J18="M",0,J18)-IF(J20="M",0,J20)-IF(J21="M",0,J21)-IF(J24="M",0,J24) -> 0 | K44: =IF(K18="M",0,K18)-IF(K20="M",0,K20)-IF(K21="M",0,K21)-IF(K24="M",0,K24) -> 0 | L44: =IF(L18="M",0,L18)-IF(L20="M",0,L20)-IF(L21="M",0,L21)-IF(L24="M",0,L24) -> 0 | ... AA44: =IF(AA18="M",0,AA18)-IF(AA20="M",0,AA20)-IF(AA21="M",0,AA21)-IF(AA24="M",0,AA24) -> 0 | AC44: =IF(AC18="M",0,AC18)-IF(AC20="M",0,AC20)-IF(AC21="M",0,AC21)-IF(AC24="M",0,AC24) -> 0 | AD44: 0 | AE44: 0 | AF44: 0 | AG44: 0 | AH44: 0 | AI44: 0 | AJ44: 0
C45: T1.AF3.S13=T1.AF31.S13+T1.AF32.S13 | E45: =IF(E21="M",0,E21)-IF(E22="M",0,E22)-IF(E23="M",0,E23) -> 0 | F45: =IF(F21="M",0,F21)-IF(F22="M",0,F22)-IF(F23="M",0,F23) -> 0 | G45: =IF(G21="M",0,G21)-IF(G22="M",0,G22)-IF(G23="M",0,G23) -> 0 | H45: =IF(H21="M",0,H21)-IF(H22="M",0,H22)-IF(H23="M",0,H23) -> 0 | I45: =IF(I21="M",0,I21)-IF(I22="M",0,I22)-IF(I23="M",0,I23) -> 0 | J45: =IF(J21="M",0,J21)-IF(J22="M",0,J22)-IF(J23="M",0,J23) -> 0 | K45: =IF(K21="M",0,K21)-IF(K22="M",0,K22)-IF(K23="M",0,K23) -> 0 | L45: =IF(L21="M",0,L21)-IF(L22="M",0,L22)-IF(L23="M",0,L23) -> 0 | ... AA45: =IF(AA21="M",0,AA21)-IF(AA22="M",0,AA22)-IF(AA23="M",0,AA23) -> 0 | AC45: =IF(AC21="M",0,AC21)-IF(AC22="M",0,AC22)-IF(AC23="M",0,AC23) -> 0 | AD45: 0 | AE45: 0 | AF45: 0 | AG45: 0 | AH45: 0 | AI45: 0 | AJ45: 0
C46: T1.AF4.S13=T1.AF41.S13+T1.AF42.S13 | E46: =IF(E24="M",0,E24)-IF(E25="M",0,E25)-IF(E26="M",0,E26) -> 0 | F46: =IF(F24="M",0,F24)-IF(F25="M",0,F25)-IF(F26="M",0,F26) -> 0 | G46: =IF(G24="M",0,G24)-IF(G25="M",0,G25)-IF(G26="M",0,G26) -> 0 | H46: =IF(H24="M",0,H24)-IF(H25="M",0,H25)-IF(H26="M",0,H26) -> 0 | I46: =IF(I24="M",0,I24)-IF(I25="M",0,I25)-IF(I26="M",0,I26) -> 0 | J46: =IF(J24="M",0,J24)-IF(J25="M",0,J25)-IF(J26="M",0,J26) -> 0 | K46: =IF(K24="M",0,K24)-IF(K25="M",0,K25)-IF(K26="M",0,K26) -> 0 | L46: =IF(L24="M",0,L24)-IF(L25="M",0,L25)-IF(L26="M",0,L26) -> 0 | ... AA46: =IF(AA24="M",0,AA24)-IF(AA25="M",0,AA25)-IF(AA26="M",0,AA26) -> 0 | AC46: =IF(AC24="M",0,AC24)-IF(AC25="M",0,AC25)-IF(AC26="M",0,AC26) -> 0 | AD46: 0 | AE46: 0 | AF46: 0 | AG46: 0 | AH46: 0 | AI46: 0 | AJ46: 0

Sheet 2A Tábla
C1: 2A tábla. A központi költségvetés hivatalos egyenlege és a központi kormányzat alszektor hiánya/többlete (EDP B.9) közötti levezetés | AM1: cash | AN1: =Fedőlap!$N$1 -> Oct.2016 | AO1: 3 | AP1: 4 | AQ1: 5 | AR1: 6 | AS1: 7 | AT1: =AS1+1 -> 8 | AU1: =AT1+1 -> 9 | AV1: =AU1+1 -> 10 | AW1: =AV1+1 -> 11 | AX1: =AW1+1 -> 12 | AY1: =AX1+1 -> 13 | AZ1: =AY1+1 -> 14 | BA1: =AZ1+1 -> 15 | ... BE1: =BD1+1 -> 19
AM2: accrual
AM3: mixed
C4: Tagország: Magyarország | D4: Year | AM4: other
B5: SDMX series | C5: Adatok millió forintban | D5: ='1. Tábla'!E5 -> 1995 | E5: =D5+1 -> 1996 | F5: =E5+1 -> 1997 | G5: =F5+1 -> 1998 | H5: =G5+1 -> 1999 | I5: =H5+1 -> 2000 | J5: =I5+1 -> 2001 | K5: =J5+1 -> 2002 | L5: =K5+1 -> 2003 | ... U5: =T5+1 -> 2012 | V5: 2013 | W5: 2014 | X5: 2015 | Y5: 2016 | Z5: 2017 | AA5: 2018 | AB5: 2019 | AC5: 2020
C6: =Fedőlap!E15 -> Dátum: 2025.10.10.
A8: T2.WB.S1311 | B8: A.N.@@._Z.S1311._Z._Z.B.ORWB._Z.T._Z.XDC._T.S.V.N._T.EDP2 | C8: A központi költségvetés hivatalos egyenlege | D8: -133890 | E8: 77085 | F8: -177617 | G8: -540191 | H8: -328319 | I8: -367790 | J8: -402941 | K8: -1469610 | L8: -732419 | M8: -904520 | N8: -547801 | O8: -1961632 | P8: -1398117 | Q8: -869962 | R8: -743718 | S8: -794088 | T8: -1657935 | U8: -481082 | V8: -933577 | W8: -810966.5 | X8: -1211646.9 | Y8: -748070.9 | Z8: -1690325 | AA8: -1367743 | AB8: -893004 | AC8: -4669259.2 | BM8: =CountryCode & ".T2.WB.S1311.MNAC." & RefVintage -> #VALUE!
C9: A hivatalos egyenleg alapja | D9: pénzforgalmi | E9: pénzforgalmi | F9: pénzforgalmi | G9: pénzforgalmi | H9: pénzforgalmi | I9: pénzforgalmi | J9: pénzforgalmi | K9: pénzforgalmi | L9: pénzforgalmi | M9: pénzforgalmi | N9: pénzforgalmi | O9: pénzforgalmi | P9: pénzforgalmi | Q9: vegyes | R9: vegyes | S9: vegyes | T9: vegyes | U9: vegyes | V9: pénzforgalmi | W9: pénzforgalmi | X9: pénzforgalmi | Y9: pénzforgalmi | Z9: pénzforgalmi | AA9: pénzforgalmi | AB9: pénzforgalmi | AC9: pénzforgalmi | AD9: (1) | AE9: (1) | AF9: (1) | AG9: (1) | AH9: (1) | AI9: (1)
BM10: =CountryCode & ".T2.WB_STATUS.S1311.MNAC." & RefVintage -> #VALUE!
A11: T2.FT.S1311 | B11: A.N.@@._Z.S1311._Z._Z.B.F.F.T._Z.XDC._T.S.V.N._T.EDP2 | C11: A hivatalos egyenlegben elszámolt pénzügyi műveletek | D11: -154251 | E11: -208943 | F11: -159567 | G11: -19064 | H11: -52376 | I11: -83484 | J11: -29945 | K11: 69117 | L11: -22114 | M11: 4388 | N11: -378922 | O11: -1273 | P11: 68556 | Q11: 3560 | R11: -12043 | S11: -100501 | T11: 539417 | U11: -35950 | V11: -51908 | W11: 88489.903 | X11: -164043.88 | Y11: -53167.966 | Z11: -108500.67 | AA11: 10869 | AB11: 140394.9 | AC11: 445943.41 | BM11: =CountryCode & ".T2.FT.S1311.MNAC." & RefVintage -> #VALUE!
A12: T2.F4ACQ.S1311 | B12: A.N.@@._Z.S1311._Z.N.AI.F.F4.T._Z.XDC._T.S.V.N._T.EDP2 | C12: Hitelnyújtások (+) | D12: 36787 | E12: 12548 | F12: 23521 | G12: 9239 | H12: 13798 | I12: 16794 | J12: 20492 | K12: 12484 | L12: 17933 | M12: 20941 | N12: 30360 | O12: 15022 | P12: 19422 | Q12: 20182 | R12: 21344 | S12: 19188 | T12: 25445 | U12: 4653 | V12: 19911 | W12: 10141 | X12: 20489.828 | Y12: 43434.789 | Z12: 139585.24 | AA12: 102789 | AB12: 151626 | AC12: 238631 | BM12: =CountryCode & ".T2.F4ACQ.S1311.MNAC." & RefVintage -> #VALUE!
A13: T2.F4DIS.S1311 | B13: A.N.@@._Z.S1311._Z.N.AD.F.F4.T._Z.XDC._T.S.V.N._T.EDP2 | C13: Hitelek törlesztése (-) | D13: -46402 | E13: -52602 | F13: -67157 | G13: -52128 | H13: -34996 | I13: -83437 | J13: -26473 | K13: -25090 | L13: -43719 | M13: -30346 | N13: -18715 | O13: -19872 | P13: -10609 | Q13: -16033 | R13: -6746 | S13: -9128 | T13: -8911 | U13: -6214 | V13: -12677 | W13: -17098.187 | X13: -10714.54 | Y13: -10473.957 | Z13: -13248.509 | AA13: -13951 | AB13: -25128 | AC13: -43791 | BM13: =CountryCode & ".T2.F4DIS.S1311.MNAC." & RefVintage -> #VALUE!
A14: T2.F5ACQ.S1311 | B14: A.N.@@._Z.S1311._Z.N.AI.F.F5.T._Z.XDC._T.S.V.N._T.EDP2 | C14: Részvények vásárlása (+) | D14: 13360 | E14: 62191 | F14: 25728 | G14: 49248 | H14: 12252 | I14: 7614 | J14: 10996 | K14: 107849 | L14: 5247 | M14: 8496 | N14: 8056 | O14: 17264 | P14: 25067 | Q14: 21561 | R14: 38618 | S14: 1437 | T14: 557577 | U14: 9519 | V14: 113652 | W14: 179623.46 | X14: 18764.375 | Y14: 52131.457 | Z14: 41849.863 | AA14: 16236 | AB14: 155076.9 | AC14: 345469 | AJ14: 2013: MVM Zrt.(71 milliárd HUF), 2014: MVM Zrt (37,3 milliárd HUF), Antenna Hungária (56 milliárd HUF), MKB Bank (17,1 milliárd HUF), AVE (14 milliárd HUF) | BM14: =CountryCode & ".T2.F5ACQ.S1311.MNAC." & RefVintage -> #VALUE!
A15: T2.F5DIS.S1311 | B15: A.N.@@._Z.S1311._Z.N.AD.F.F5.T._Z.XDC._T.S.V.N._T.EDP2 | C15: Részvények eladása (-) | D15: -150014 | E15: -228527 | F15: -173248 | G15: -67645 | H15: -73727 | I15: -21055 | J15: -29736 | K15: -23523 | L15: -580 | M15: -223 | N15: -401919 | O15: -2258 | P15: -7921 | Q15: -30740 | R15: -16270 | S15: -1930 | T15: -1195 | U15: -76 | V15: -25846 | W15: -97.713 | X15: -91628.894 | Y15: -7467.3349 | Z15: -147.88136 | AA15: -4598 | AB15: -19813 | AC15: -2721 | AJ15: 2013: A Magyar Posta részvényeinek eladása 19 milliárd HUF; 2015: OTP bank részvényeinek eladása 75 milliárd HUF | BM15: =CountryCode & ".T2.F5DIS.S1311.MNAC." & RefVintage -> #VALUE!
A16: T2.OFT.S1311 | B16: A.N.@@._Z.S1311._Z._Z.N.F.FNDX.T._Z.XDC._T.S.V.N._T.EDP2 | C16: Egyéb pénzügyi műveletek (+/-) | D16: -7982 | E16: -2553 | F16: 31589 | G16: 42222 | H16: 30297 | I16: -3400 | J16: -5224 | K16: -2603 | L16: -995 | M16: 5520 | N16: 3296 | O16: -11429 | P16: 42597 | Q16: 8590 | R16: -48989 | S16: -110068 | T16: -33499 | U16: -43832 | V16: -146948 | W16: -84078.659 | X16: -100954.65 | Y16: -130792.92 | Z16: -276539.38 | AA16: -89607 | AB16: -121367 | AC16: -91644.592 | BM16: =CountryCode & ".T2.OFT.S1311.MNAC." & RefVintage -> #VALUE!
A17: T2.OFTDL.S1311 | B17: A.N.@@._Z.S1311._Z._Z.L.F.FNDL.T._Z.XDC._T.S.V.N._T.EDP2 | C17: ebből: adósság részét képező kötelezettségekkel kapcsolatos műveletek | D17: L | E17: L | F17: L | G17: L | H17: L | I17: L | J17: L | K17: L | L17: L | M17: L | N17: L | O17: L | P17: L | Q17: 0 | R17: 0 | S17: 0 | T17: 0 | U17: 0 | V17: 0 | W17: L | X17: L | Y17: L | Z17: L | AA17: L | AB17: L | AC17: L | BM17: =CountryCode & ".T2.OFTDL.S1311.MNAC." & RefVintage -> #VALUE!
A18: T2.F71K.S1311 | B18: A.N.@@._Z.S1311._Z._Z.N.F.F71K.T._Z.XDC._T.S.V.N._T.EDP2 | C18: ebből: swap ügyletek kamata | D18: 0 | E18: 0 | F18: 29542 | G18: 39740 | H18: 31331 | I18: -5976 | J18: -4980 | K18: -2149 | L18: 6635 | M18: 3700 | N18: -2166 | O18: -12102 | P18: 5037 | Q18: 10036 | R18: 20743 | S18: -20868 | T18: -24526 | U18: -26623 | V18: -53970 | W18: -85748 | X18: -120341 | Y18: -119060 | Z18: -113887 | AA18: -85235 | AB18: -97018 | AC18: -80359 | BM18: =CountryCode & ".T2.F71K.S1311.MNAC." & RefVintage -> #VALUE!
A19: T2.OFT1.S1311 | B19: A.N.@@._Z.S1311._Z._Z.N.F.FNDX.T._Z.XDC._T.S.V.N.C01.EDP2 | C19: Memorandum tétel: pénzügyi intézmények részére fizetett előleg (lakástámogatásokhoz kapcsolódóan) | D19: 1848 | E19: 262 | F19: -238 | G19: -4 | H19: -400 | I19: 1328 | J19: -1661 | K19: -1266 | L19: -8062 | M19: 990 | N19: 4859 | O19: -4662 | P19: 4252 | Q19: -226 | R19: -2432 | S19: -1587 | T19: -428 | U19: -46 | V19: -229 | W19: -40 | X19: -25376.162 | Y19: -7755.2814 | Z19: 48833.164 | AA19: 0 | AB19: 0 | AC19: 0 | BM19: =CountryCode & ".T2.OFT1.S1311.MNAC." & RefVintage -> #VALUE!
A20: T2.OFT2.S1311 | B20: A.N.@@._Z.S1311._Z._Z.N.F.FNDX.T._Z.XDC._T.S.V.N.C02.EDP2 | C20: Memorandum tétel: EU transzfereken képződött és egyéb árfolyam különbözet | P20: -1403 | Q20: -5446 | R20: -39847 | S20: 4039 | T20: 1070 | U20: -5083 | V20: -8277 | W20: -14940 | BM20: =CountryCode & ".T2.OFT2.S1311.MNAC." & RefVintage -> #VALUE!
A22: T2.ONFT.S1311 | B22: A.N.@@._Z.S1311._Z._Z.B.ORNF._Z.T._Z.XDC._T.S.V.N._T.EDP2 | C22: A hivatalos egyenlegben nem szereplő nem pénzügyi műveletek | D22: M | E22: M | F22: M | G22: M | H22: M | I22: M | J22: M | K22: M | L22: M | M22: M | N22: M | O22: M | P22: M | Q22: M | R22: M | S22: M | T22: M | U22: M | V22: M | W22: M | X22: M | Y22: M | Z22: M | AA22: M | AB22: M | AC22: M | BM22: =CountryCode & ".T2.ONFT.S1311.MNAC." & RefVintage -> #VALUE!
A23: T2.ONFT1.S1311 | B23: A.N.@@._Z.S1311._Z._Z.B.ORNF._Z.T._Z.XDC._T.S.V.N.C01.EDP2 | C23: Részletező sor 1 | BM23: =CountryCode & ".T2.ONFT1.S1311.MNAC." & RefVintage -> #VALUE!
A24: T2.ONFT2.S1311 | B24: A.N.@@._Z.S1311._Z._Z.B.ORNF._Z.T._Z.XDC._T.S.V.N.C02.EDP2 | C24: Részletező sor 2 | BM24: =CountryCode & ".T2.ONFT2.S1311.MNAC." & RefVintage -> #VALUE!
AB25: =+'[25]közp eredmény'!$D$140+'[25]közp eredmény'!$E$140-(AB26+AB28+AB39)--97018 -> 1
A26: T2.D41DIF.S1311 | B26: A.N.@@._Z.S1311._Z._Z.B.ORD41A._Z.T._Z.XDC._T.S.V.N._T.EDP2 | C26: A kifizetett (+) és felhalmozódott (-) kamatok különbözete (D.41) | D26: -18665 | E26: -93473 | F26: -30032 | G26: -15715 | H26: -2300 | I26: 54416 | J26: 2492 | K26: 11287 | L26: 6723 | M26: -38590 | N26: -62554 | O26: 20683 | P26: -60682 | Q26: 40310 | R26: -76937 | S26: -5065 | T26: -30701 | U26: -24532 | V26: 8559 | W26: -59558 | X26: 20121 | Y26: 83603 | Z26: 154737 | AA26: 86106 | AB26: -47276 | AC26: 26536 | BM26: =CountryCode & ".T2.D41DIF.S1311.MNAC." & RefVintage -> #VALUE!
A28: T2.F8ASS.S1311 | B28: A.N.@@._Z.S1311._Z._Z.A.F.F8.T._Z.XDC._T.S.V.N._T.EDP2 | C28: Egyéb követelések (+) | D28: -2000 | E28: 18593 | F28: 6151 | G28: 26293 | H28: 12037 | I28: 28648 | J28: 40819 | K28: 43019 | L28: 43107 | M28: 153696 | N28: -51965 | O28: 58596 | P28: 25535 | Q28: 7897 | R28: 80308 | S28: 26467 | T28: 35238 | U28: -43244 | V28: 87290.5 | W28: 141021.62 | X28: 825731.13 | Y28: -234727.91 | Z28: 202885.43 | AA28: 40299 | AB28: 101527.53 | AC28: -77324 | BM28: =CountryCode & ".T2.F8ASS.S1311.MNAC." & RefVintage -> #VALUE!
A29: T2.F8ASS1.S1311 | B29: A.N.@@._Z.S1311._Z._Z.A.F.F8.T._Z.XDC._T.S.V.N.C01.EDP2 | C29: P.11-hez és P.131-hez kapcsolódóan | D29: 0 | E29: 0 | F29: 0 | G29: 0 | H29: 0 | I29: 0 | J29: 0 | K29: -3435 | L29: 76 | M29: 1168 | N29: 8118 | O29: 17787 | P29: -3420 | Q29: -6067 | R29: 8361 | S29: 9072 | T29: -6397 | U29: -990 | V29: -1189 | W29: -428 | X29: 3046 | Y29: 1659 | Z29: -379 | AA29: -28 | AB29: -2112 | AC29: -1183 | BM29: =CountryCode & ".T2.F8ASS1.S1311.MNAC." & RefVintage -> #VALUE!
B30: A.N.@@._Z.S1311._Z._Z.A.F.F8.T._Z.XDC._T.S.V.N.C02.EDP2 | C30: D.2-höz kapcsolódóan | D30: 12439 | E30: 7562 | F30: -21818 | G30: 13583 | H30: -5016 | I30: 5744 | J30: 16200 | K30: 27352 | L30: 32821 | M30: 144535 | N30: 15484 | O30: 4253 | P30: 714 | Q30: -14192 | R30: 61027 | S30: -3556 | T30: 46057 | U30: -7397 | V30: 80320 | W30: 41061 | X30: 24570 | Y30: 39901 | Z30: 41922.642 | AA30: 64195 | AB30: 113926.53 | AC30: 26039
B31: A.N.@@._Z.S1311._Z._Z.A.F.F8.T._Z.XDC._T.S.V.N.C03.EDP2 | C31: D.42-höz kapcsolódóan | R31: -21814 | S31: 21814 | T31: 0 | U31: 0 | V31: 0 | W31: 0 | X31: 0 | Y31: 0 | Z31: 0 | AA31: 26040 | AC31: -97680
B32: A.N.@@._Z.S1311._Z._Z.A.F.F8.T._Z.XDC._T.S.V.N.C04.EDP2 | C32: D.45-höz és K.2-höz kapcsolódóan | D32: 1600 | E32: 1600 | F32: 1600 | G32: 1600 | H32: 1600 | I32: 1600 | J32: 800 | K32: 800 | L32: 800 | M32: -7878 | N32: -75267 | O32: 10233 | P32: -7267 | Q32: 15826 | R32: 18400 | S32: 18400 | T32: 6400 | U32: 6400 | V32: 8647 | W32: 20899 | X32: 28708 | Y32: 27375 | Z32: 26040 | AA32: 23736 | AB32: -6460 | AC32: 15553
B33: A.N.@@._Z.S1311._Z._Z.A.F.F8.T._Z.XDC._T.S.V.N.C05.EDP2 | C33: D.5-höz és D.91-hez kapcsolódóan | D33: -16039 | E33: 9431 | F33: 26369 | G33: 11110 | H33: 15453 | I33: 21304 | J33: 23819 | K33: 18302 | L33: 9410 | M33: 2671 | N33: 11779 | O33: 19792 | P33: -2278 | Q33: 6961 | R33: -2654 | S33: -39086 | T33: -19104 | U33: 13253 | V33: -4324 | W33: 70082.6 | X33: 1222 | Y33: -51457.7 | Z33: 30888.7 | AA33: 1909 | AB33: 150460 | AC33: 283 | AJ33: 2016: növekedési adóhitellel kapcsolatos
B34: A.N.@@._Z.S1311._Z._Z.A.F.F8.T._Z.XDC._T.S.V.N.C06.EDP2 | C34: D.61-hez kapcsolódóan | S34: -5042 | T34: 1153 | U34: -5676 | V34: 785 | W34: 667 | X34: 887 | Y34: 20423 | Z34: -17588 | AA34: 0 | AB34: 2427 | AC34: 3867
B35: A.N.@@._Z.S1311._Z._Z.A.F.F8.T._Z.XDC._T.S.V.N.C07.EDP2 | C35: EU-tanszferekhez kapcsolódóan | D35: 0 | E35: 0 | F35: 0 | G35: 0 | H35: 0 | I35: 0 | J35: 0 | K35: 0 | L35: 0 | M35: 13200 | N35: -12079 | O35: 6531 | P35: 37786 | Q35: 3610 | R35: 20573 | S35: 21785 | T35: 20133 | U35: -43260 | V35: 1573 | W35: 7545.257 | X35: 765318 | Y35: -275566 | Z35: 112357.69 | AA35: -75259 | AB35: -157073 | AC35: -23533
B36: A.N.@@._Z.S1311._Z._Z.A.F.F8.T._Z.XDC._T.S.V.N.C08.EDP2 | C36: Ebből: EU pénzügyi korrekció | AB36: -77954 | AC36: -148847 | AJ36: 2018-19-es megállapodás alapján a pénzügyi korrekció éves eredményszemléletű hatása
B37: A.N.@@._Z.S1311._Z._Z.A.F.F8.T._Z.XDC._T.S.V.N.C09.EDP2 | C37: RRF-hez (helyreállítási és ellenálló képességi eszközhöz) kapcsolódóan | AB37: 0 | AC37: 0
A38: T2.F8ASS2.S1311 | B38: A.N.@@._Z.S1311._Z._Z.A.F.F8.T._Z.XDC._T.S.V.N.C10.EDP2 | C38: Konszolidációhoz kapcsolódó eredményszemléletű korrekció | Q38: 1759 | R38: -3585 | S38: 3080 | T38: -13004 | U38: -5574 | V38: 1478.5 | W38: 1194.767 | X38: 1980.131 | Y38: 2937.7874 | Z38: 9643.3947 | AA38: -294 | AB38: 359 | AC38: -670 | AJ38: A kormányzaton belüli transzferek időbeli eltérései | BM38: =CountryCode & ".T2.F8ASS2.S1311.MNAC." & RefVintage -> #VALUE!
A39: T2.F8LIA.S1311 | B39: A.N.@@._Z.S1311._Z._Z.L.F.F8.T._Z.XDC._T.S.V.N._T.EDP2 | C39: Egyéb tartozások (-) | D39: 32338 | E39: -3960 | F39: 27691 | G39: -27590 | H39: -4022 | I39: 3283 | J39: -21184 | K39: -5236 | L39: -185097 | M39: -93972 | N39: 35215 | O39: -58342 | P39: 123901 | Q39: -6475 | R39: -79423 | S39: -33486 | T39: -58374 | U39: -149347 | V39: -152443 | W39: -232458.8 | X39: 12980 | Y39: 129647 | Z39: 450244.3 | AA39: 261640 | AB39: -207003 | AC39: -99694.7 | BM39: =CountryCode & ".T2.F8LIA.S1311.MNAC." & RefVintage -> #VALUE!
A40: T2.F8LIA1.S1311 | B40: A.N.@@._Z.S1311._Z._Z.L.F.F8.T._Z.XDC._T.S.V.N.C01.EDP2 | C40: P.2-höz kapcsolódóan | D40: 0 | E40: 0 | F40: 0 | G40: 0 | H40: 0 | I40: -878 | J40: -1 | K40: 2216 | L40: -7858 | M40: 6955 | N40: -8158 | O40: -14653 | P40: 50183 | Q40: 9099 | R40: -56090 | S40: -28148 | T40: 11921 | U40: -17104 | V40: -4323 | W40: -31910 | X40: 12374 | Y40: -14381 | Z40: -39368 | AA40: 1291 | AB40: -34322 | AC40: 64599 | BM40: =CountryCode & ".T2.F8LIA1.S1311.MNAC." & RefVintage -> #VALUE!
B41: A.N.@@._Z.S1311._Z._Z.L.F.F8.T._Z.XDC._T.S.V.N.C02.EDP2 | C41: D.1-hez kapcsolódóan | D41: 0 | E41: 0 | F41: 0 | G41: 0 | H41: 0 | I41: -11747 | J41: -8658 | K41: -18414 | L41: -4476 | M41: -1789 | N41: 9100 | O41: 21515 | P41: 8260 | Q41: 740 | R41: 966 | S41: 5097 | T41: -4073 | U41: -14842 | V41: -62471 | W41: 3530 | X41: -15171 | Y41: -30002 | Z41: -19668 | AA41: -13532 | AB41: -10498 | AC41: -14638
B42: A.N.@@._Z.S1311._Z._Z.L.F.F8.T._Z.XDC._T.S.V.N.C03.EDP3 | C42: D.211-hez kapcsolódóan | D42: 0 | E42: 0 | F42: 0 | G42: 0 | H42: 0 | I42: 0 | J42: -27416 | K42: 19317 | L42: -174618 | M42: -35436 | N42: 71298 | O42: -58970 | P42: 32402 | Q42: -18546 | R42: -47137 | S42: -6348 | T42: -81906 | U42: -131022 | V42: -150250 | W42: -58668 | X42: -13889 | Y42: -12845 | Z42: 56386 | AA42: 118705 | AB42: -90566 | AC42: 28614
B43: A.N.@@._Z.S1311._Z._Z.L.F.F8.T._Z.XDC._T.S.V.N.C04.EDP4 | C43: D.3-hoz kapcsolódóan | D43: 0 | E43: 0 | F43: 0 | G43: -1156 | H43: -319 | I43: -668 | J43: 1705 | K43: -8496 | L43: 9 | M43: -77826 | N43: -3164 | O43: 4367 | P43: 22309 | Q43: 14677 | R43: 48165 | S43: -3299 | T43: 4249 | U43: 7644 | V43: 6174 | W43: -19595 | X43: 17575 | Y43: 8270 | Z43: -244 | AA43: -1639 | AB43: -3450 | AC43: 6146
...

Sheet 2B Tábla
C1: 2B tábla. A tartományi költségvetés hivatalos egyenlege és a tartományi kormányzat alszektor hiánya/többlete (EDP B.9) közötti levezetés | AM1: cash | AN1: =Fedőlap!$N$1 -> Oct.2016 | AO1: 3 | AP1: 4 | AQ1: 5 | AR1: 6 | AS1: =AR1+1 -> 7 | AT1: =AS1+1 -> 8 | AU1: =AT1+1 -> 9 | AV1: =AU1+1 -> 10 | AW1: =AV1+1 -> 11 | AX1: =AW1+1 -> 12 | AY1: =AX1+1 -> 13 | AZ1: =AY1+1 -> 14 | ... BE1: =BD1+1 -> 19
AM2: accrual
AM3: mixed
C4: Tagország: Magyarország | D4: Year | AM4: other
B5: SDMX series | C5: Adatok millió forintban | D5: ='1. Tábla'!E5 -> 1995 | E5: =D5+1 -> 1996 | F5: =E5+1 -> 1997 | G5: =F5+1 -> 1998 | H5: =G5+1 -> 1999 | I5: =H5+1 -> 2000 | J5: =I5+1 -> 2001 | K5: =J5+1 -> 2002 | L5: =K5+1 -> 2003 | ... U5: =T5+1 -> 2012 | V5: 2013 | W5: 2014 | X5: 2015 | Y5: 2016 | Z5: 2017 | AA5: 2018 | AB5: 2019 | AC5: 2020
C6: =Fedőlap!E15 -> Dátum: 2025.10.10.
A8: T2.WB.S1312 | B8: A.N.@@._Z.S1312._Z._Z.B.ORWB._Z.T._Z.XDC._T.S.V.N._T.EDP2 | C8: A tartományi költségvetés hivatalos egyenlege | D8: M | E8: M | F8: M | G8: M | H8: M | I8: M | J8: M | K8: M | L8: M | M8: M | N8: M | O8: M | P8: M | Q8: M | R8: M | S8: M | T8: M | U8: M | V8: M | W8: M | X8: M | Y8: M | Z8: M | AA8: M | AB8: M | AC8: M | BM8: =CountryCode & ".T2.WB.S1312.MNAC." & RefVintage -> #VALUE!
C9: A hivatalos egyenleg alapja | D9: M | E9: M | F9: M | G9: M | H9: M | I9: M | J9: M | K9: M | L9: M | M9: M | N9: M | O9: M | P9: M | Q9: M | R9: M | S9: M | T9: M | U9: M | V9: M | W9: M | X9: M | Y9: M | Z9: M | AA9: M | AB9: M | AC9: M | AD9: (1) | AE9: (1) | AF9: (1) | AG9: (1) | AH9: (1) | AI9: (1)
BM10: =CountryCode & ".T2.WB_STATUS.S1312.MNAC." & RefVintage -> #VALUE!
A11: T2.FT.S1312 | B11: A.N.@@._Z.S1312._Z._Z.B.F.F.T._Z.XDC._T.S.V.N._T.EDP2 | C11: A hivatalos egyenlegben elszámolt pénzügyi műveletek | D11: M | E11: M | F11: M | G11: M | H11: M | I11: M | J11: M | K11: M | L11: M | M11: M | N11: M | O11: M | P11: M | Q11: M | R11: M | S11: M | T11: M | U11: M | V11: M | W11: M | X11: M | Y11: M | Z11: M | AA11: M | AB11: M | AC11: M | BM11: =CountryCode & ".T2.FT.S1312.MNAC." & RefVintage -> #VALUE!
A12: T2.F4.S1312 | B12: A.N.@@._Z.S1312._Z.N.A.F.F4.T._Z.XDC._T.S.V.N._T.EDP2 | C12: Hitelműveletek (+/-) | D12: M | E12: M | F12: M | G12: M | H12: M | I12: M | J12: M | K12: M | L12: M | M12: M | N12: M | O12: M | P12: M | Q12: M | R12: M | S12: M | T12: M | U12: M | V12: M | W12: M | X12: M | Y12: M | Z12: M | AA12: M | AB12: M | AC12: M | BM12: =CountryCode & ".T2.F4.S1312.MNAC." & RefVintage -> #VALUE!
A13: T2.F5.S1312 | B13: A.N.@@._Z.S1312._Z.N.A.F.F5.T._Z.XDC._T.S.V.N._T.EDP2 | C13: Részvényműveletek (+/-) | D13: M | E13: M | F13: M | G13: M | H13: M | I13: M | J13: M | K13: M | L13: M | M13: M | N13: M | O13: M | P13: M | Q13: M | R13: M | S13: M | T13: M | U13: M | V13: M | W13: M | X13: M | Y13: M | Z13: M | AA13: M | AB13: M | AC13: M | BM13: =CountryCode & ".T2.F5.S1312.MNAC." & RefVintage -> #VALUE!
A14: T2.OFT.S1312 | B14: A.N.@@._Z.S1312._Z._Z.N.F.FNDX.T._Z.XDC._T.S.V.N._T.EDP2 | C14: Egyéb pénzügyi műveletek (+/-) | D14: M | E14: M | F14: M | G14: M | H14: M | I14: M | J14: M | K14: M | L14: M | M14: M | N14: M | O14: M | P14: M | Q14: M | R14: M | S14: M | T14: M | U14: M | V14: M | W14: M | X14: M | Y14: M | Z14: M | AA14: M | AB14: M | AC14: M | BM14: =CountryCode & ".T2.OFT.S1312.MNAC." & RefVintage -> #VALUE!
A15: T2.OFTDL.S1312 | B15: A.N.@@._Z.S1312._Z._Z.L.F.FNDL.T._Z.XDC._T.S.V.N._T.EDP2 | C15: ebből: adósság részét képező kötelezettségekkel kapcsolatos műveletek | D15: M | E15: M | F15: M | G15: M | H15: M | I15: M | J15: M | K15: M | L15: M | M15: M | N15: M | O15: M | P15: M | Q15: M | R15: M | S15: M | T15: M | U15: M | V15: M | W15: M | X15: M | Y15: M | Z15: M | AA15: M | AB15: M | AC15: M | BM15: =CountryCode & ".T2.OFTDL.S1312.MNAC." & RefVintage -> #VALUE!
A16: T2.F71K.S1312 | B16: A.N.@@._Z.S1312._Z._Z.N.F.F71K.T._Z.XDC._T.S.V.N._T.EDP2 | C16: ebből: swap ügyletek kamata | D16: M | E16: M | F16: M | G16: M | H16: M | I16: M | J16: M | K16: M | L16: M | M16: M | N16: M | O16: M | P16: M | Q16: M | R16: M | S16: M | T16: M | U16: M | V16: M | W16: M | X16: M | Y16: M | Z16: M | AA16: M | AB16: M | AC16: M | BM16: =CountryCode & ".T2.F71K.S1312.MNAC." & RefVintage -> #VALUE!
A17: T2.OFT1.S1312 | B17: A.N.@@._Z.S1312._Z._Z.N.F.FNDX.T._Z.XDC._T.S.V.N.C01.EDP2 | C17: Részletező sor 1 | BM17: =CountryCode & ".T2.OFT1.S1312.MNAC." & RefVintage -> #VALUE!
A18: T2.OFT2.S1312 | B18: A.N.@@._Z.S1312._Z._Z.N.F.FNDX.T._Z.XDC._T.S.V.N.C02.EDP2 | C18: Részletező sor 2 | BM18: =CountryCode & ".T2.OFT2.S1312.MNAC." & RefVintage -> #VALUE!
A20: T2.ONFT.S1312 | B20: A.N.@@._Z.S1312._Z._Z.B.ORNF._Z.T._Z.XDC._T.S.V.N._T.EDP2 | C20: A hivatalos egyenlegben nem szereplő nem pénzügyi műveletek | D20: M | E20: M | F20: M | G20: M | H20: M | I20: M | J20: M | K20: M | L20: M | M20: M | N20: M | O20: M | P20: M | Q20: M | R20: M | S20: M | T20: M | U20: M | V20: M | W20: M | X20: M | Y20: M | Z20: M | AA20: M | AB20: M | AC20: M | AD20: M | AE20: M | AF20: M | AG20: M | AH20: M | AI20: M | BM20: =CountryCode & ".T2.ONFT.S1312.MNAC." & RefVintage -> #VALUE!
A21: T2.ONFT1.S1312 | B21: A.N.@@._Z.S1312._Z._Z.B.ORNF._Z.T._Z.XDC._T.S.V.N.C01.EDP2 | C21: Részletező sor 1 | BM21: =CountryCode & ".T2.ONFT1.S1312.MNAC." & RefVintage -> #VALUE!
A22: T2.ONFT2.S1312 | B22: A.N.@@._Z.S1312._Z._Z.B.ORNF._Z.T._Z.XDC._T.S.V.N.C02.EDP2 | C22: Részletező sor 2 | BM22: =CountryCode & ".T2.ONFT2.S1312.MNAC." & RefVintage -> #VALUE!
A24: T2.D41DIF.S1312 | B24: A.N.@@._Z.S1312._Z._Z.B.ORD41A._Z.T._Z.XDC._T.S.V.N._T.EDP2 | C24: A kifizetett (+) és felhalmozódott (-) kamatok különbözete (D.41) | D24: M | E24: M | F24: M | G24: M | H24: M | I24: M | J24: M | K24: M | L24: M | M24: M | N24: M | O24: M | P24: M | Q24: M | R24: M | S24: M | T24: M | U24: M | V24: M | W24: M | X24: M | Y24: M | Z24: M | AA24: M | AB24: M | AC24: M | AD24: M | AE24: M | AF24: M | AG24: M | AH24: M | AI24: M | BM24: =CountryCode & ".T2.D41DIF.S1312.MNAC." & RefVintage -> #VALUE!
A26: T2.F8ASS.S1312 | B26: A.N.@@._Z.S1312._Z._Z.A.F.F8.T._Z.XDC._T.S.V.N._T.EDP2 | C26: Egyéb követelések (+) | D26: M | E26: M | F26: M | G26: M | H26: M | I26: M | J26: M | K26: M | L26: M | M26: M | N26: M | O26: M | P26: M | Q26: M | R26: M | S26: M | T26: M | U26: M | V26: M | W26: M | X26: M | Y26: M | Z26: M | AA26: M | AB26: M | AC26: M | AD26: M | AE26: M | AF26: M | AG26: M | AH26: M | AI26: M | BM26: =CountryCode & ".T2.F8ASS.S1312.MNAC." & RefVintage -> #VALUE!
A27: T2.F8ASS1.S1312 | B27: A.N.@@._Z.S1312._Z._Z.A.F.F8.T._Z.XDC._T.S.V.N.C01.EDP2 | C27: Részletező sor 1 | BM27: =CountryCode & ".T2.F8ASS1.S1312.MNAC." & RefVintage -> #VALUE!
A28: T2.F8ASS2.S1312 | B28: A.N.@@._Z.S1312._Z._Z.A.F.F8.T._Z.XDC._T.S.V.N.C02.EDP2 | C28: Részletező sor 2 | BM28: =CountryCode & ".T2.F8ASS2.S1312.MNAC." & RefVintage -> #VALUE!
A29: T2.F8LIA.S1312 | B29: A.N.@@._Z.S1312._Z._Z.L.F.F8.T._Z.XDC._T.S.V.N._T.EDP2 | C29: Egyéb tartozások (-) | D29: M | E29: M | F29: M | G29: M | H29: M | I29: M | J29: M | K29: M | L29: M | M29: M | N29: M | O29: M | P29: M | Q29: M | R29: M | S29: M | T29: M | U29: M | V29: M | W29: M | X29: M | Y29: M | Z29: M | AA29: M | AB29: M | AC29: M | AD29: M | AE29: M | AF29: M | AG29: M | AH29: M | AI29: M | BM29: =CountryCode & ".T2.F8LIA.S1312.MNAC." & RefVintage -> #VALUE!
A30: T2.F8LIA1.S1312 | B30: A.N.@@._Z.S1312._Z._Z.L.F.F8.T._Z.XDC._T.S.V.N.C01.EDP2 | C30: Részletező sor 1 | BM30: =CountryCode & ".T2.F8LIA1.S1312.MNAC." & RefVintage -> #VALUE!
A31: T2.F8LIA2.S1312 | B31: A.N.@@._Z.S1312._Z._Z.L.F.F8.T._Z.XDC._T.S.V.N.C02.EDP2 | C31: Részletező sor 2 | BM31: =CountryCode & ".T2.F8LIA2.S1312.MNAC." & RefVintage -> #VALUE!
A33: T2.B9_OWB.S1312 | B33: A.N.@@._Z.S1312._Z._Z.B.ORWB_E._Z.T._Z.XDC._T.S.V.N._T.EDP2 | C33: Tartományi kormányzatba nem tartozó intézményi egységek nettó hitelfelvétele (-) / hitelnyújtása (+) | D33: M | E33: M | F33: M | G33: M | H33: M | I33: M | J33: M | K33: M | L33: M | M33: M | N33: M | O33: M | P33: M | Q33: M | R33: M | S33: M | T33: M | U33: M | V33: M | W33: M | X33: M | Y33: M | Z33: M | AA33: M | AB33: M | AC33: M | AD33: M | AE33: M | AF33: M | AG33: M | AH33: M | AI33: M | BM33: =CountryCode & ".T2.B9_OWB.S1312.MNAC." & RefVintage -> #VALUE!
A34: T2.B9_OB.S1312 | B34: A.N.@@._Z.S13122._Z._Z.B.B9._Z._Z._Z.XDC._T.S.V.N._T.EDP2 | C34: Egyéb, tartományi kormányzatba tartozó egységek nettó hitelfelvétele (-) / hitelnyújtása (+) | D34: M | E34: M | F34: M | G34: M | H34: M | I34: M | J34: M | K34: M | L34: M | M34: M | N34: M | O34: M | P34: M | Q34: M | R34: M | S34: M | T34: M | U34: M | V34: M | W34: M | X34: M | Y34: M | Z34: M | AA34: M | AB34: M | AC34: M | AD34: M | AE34: M | AF34: M | AG34: M | AH34: M | AI34: M | BM34: =CountryCode & ".T2.B9_OB.S1312.MNAC." & RefVintage -> #VALUE!
A35: T2.B9_OB1.S1312 | B35: A.N.@@._Z.S13122._Z._Z.B.B9._Z._Z._Z.XDC._T.S.V.N.C01.EDP2 | C35: Részletező sor 1 | BM35: =CountryCode & ".T2.B9_OB1.S1312.MNAC." & RefVintage -> #VALUE!
A36: T2.B9_OB2.S1312 | B36: A.N.@@._Z.S13122._Z._Z.B.B9._Z._Z._Z.XDC._T.S.V.N.C02.EDP2 | C36: Részletező sor 2 | BM36: =CountryCode & ".T2.B9_OB2.S1312.MNAC." & RefVintage -> #VALUE!
A38: T2.OA.S1312 | B38: A.N.@@._Z.S1312._Z._Z._X.OROA._Z.T._Z.XDC._T.S.V.N._T.EDP2 | C38: Egyéb korrekciók (+/-) (részletesen) | D38: M | E38: M | F38: M | G38: M | H38: M | I38: M | J38: M | K38: M | L38: M | M38: M | N38: M | O38: M | P38: M | Q38: M | R38: M | S38: M | T38: M | U38: M | V38: M | W38: M | X38: M | Y38: M | Z38: M | AA38: M | AB38: M | AC38: M | AD38: M | AE38: M | AF38: M | AG38: M | AH38: M | AI38: M | BM38: =CountryCode & ".T2.OA.S1312.MNAC." & RefVintage -> #VALUE!
A39: T2.OA1.S1312 | B39: A.N.@@._Z.S1312._Z._Z._X.OROA._Z.T._Z.XDC._T.S.V.N.C01.EDP2 | C39: Részletező sor 1 | BM39: =CountryCode & ".T2.OA1.S1312.MNAC." & RefVintage -> #VALUE!
A40: T2.OA2.S1312 | B40: A.N.@@._Z.S1312._Z._Z._X.OROA._Z.T._Z.XDC._T.S.V.N.C02.EDP2 | C40: Részletező sor 2 | BM40: =CountryCode & ".T2.OA2.S1312.MNAC." & RefVintage -> #VALUE!
A41: T2.OA3.S1312 | B41: A.N.@@._Z.S1312._Z._Z._X.OROA._Z.T._Z.XDC._T.S.V.N.C03.EDP2 | C41: Részletező sor 3 | BM41: =CountryCode & ".T2.OA3.S1312.MNAC." & RefVintage -> #VALUE!
A43: T2.B9.S1312 | B43: A.N.@@._Z.S1312._Z._Z.B.B9._Z._Z._Z.XDC._T.S.V.N._T.EDP2 | C43: A Tartományi kormányzat alszektor nettó hitelfelvétele(-)/hitelnyújtása(+) (S.1312) | D43: M | E43: M | F43: M | G43: M | H43: M | I43: M | J43: M | K43: M | L43: M | M43: M | N43: M | O43: M | P43: M | Q43: M | R43: M | S43: M | T43: M | U43: M | V43: M | W43: M | X43: M | Y43: M | Z43: M | AA43: M | AB43: M | AC43: M | AD43: M | AE43: M | AF43: M | AG43: M | AH43: M | AI43: M | BM43: =CountryCode & ".T2.B9.S1312.MNAC." & RefVintage -> #VALUE!
C44: (ESA2010 számlák)
C46: (1) Kérjük jelezze, hogy a hivatalos egyenleg alapja milyen szemléletű: pénzforgalmi, eredmény, vegyes vagy egyéb.
C47: Megjegyzés: A gyakorlat szerint a Tagállamok feladata, hogy saját nemzeti jellegzetességeikhez igazítsák a 2A, B, C és D táblákat.
C51: COVERAGE | D51: =IF(COUNTA(D8:Z8,D11:Z16,D20:Z20,D24:Z24,D26:Z26,D29:Z29,D33:Z34,D38:Z38,D43:Z43)/255*100=100,"OK - Table 2B is fully completed","WARNING - Table 2B is not fully completed, please fill in figure, L, M or 0") -> WARNING - Table 2B is not fully completed, please fill in figure, L, M or 0 | AC51: OK | AD51: OK | AE51: OK | AF51: OK | AG51: OK | AH51: OK | AI51: OK
...

Sheet 2C Tábla
C1: 2C tábla. A helyi önkormányzatok hivatalos egyenlege és a helyi önkormányzatok alszektor hiánya/többlete (EDP B.9) közötti levezetés | AM1: cash | AN1: =Fedőlap!$N$1 -> Oct.2016 | AO1: 3 | AP1: 4 | AQ1: 5 | AR1: 6 | AS1: =AR1+1 -> 7 | AT1: =AS1+1 -> 8 | AU1: =AT1+1 -> 9 | AV1: =AU1+1 -> 10 | AW1: =AV1+1 -> 11 | AX1: =AW1+1 -> 12 | AY1: =AX1+1 -> 13 | AZ1: =AY1+1 -> 14 | ... BE1: =BD1+1 -> 19
AM2: accrual
AM3: mixed
C4: Tagország: Magyarország | D4: Year | AM4: other
A5: DATES | B5: SDMX series | C5: Adatok millió forintban | D5: ='1. Tábla'!E5 -> 1995 | E5: =D5+1 -> 1996 | F5: =E5+1 -> 1997 | G5: =F5+1 -> 1998 | H5: =G5+1 -> 1999 | I5: =H5+1 -> 2000 | J5: =I5+1 -> 2001 | K5: =J5+1 -> 2002 | L5: =K5+1 -> 2003 | ... U5: =T5+1 -> 2012 | V5: 2013 | W5: 2014 | X5: 2015 | Y5: 2016 | Z5: 2017 | AA5: 2018 | AB5: 2019 | AC5: 2020
C6: =Fedőlap!E15 -> Dátum: 2025.10.10.
A8: T2.WB.S1313 | B8: A.N.@@._Z.S1313._Z._Z.B.ORWB._Z.T._Z.XDC._T.S.V.N._T.EDP2 | C8: A helyi önkormányzatok hivatalos egyenlege | D8: -4063 | E8: 22988 | F8: 4814 | G8: -8769 | H8: 22993 | I8: 4970 | J8: 1291 | K8: -104968 | L8: -31671 | M8: -16464 | N8: -81375 | O8: -156510 | P8: -53858 | Q8: 15566 | R8: -82537 | S8: -231989 | T8: 141614 | U8: 90339 | V8: 114817 | W8: 89510.4 | X8: 13554.4 | Y8: 284790.1 | Z8: 518929.8 | AA8: 249451 | AB8: -76334 | AC8: -111204
C9: A hivatalos egyenleg alapja | D9: pénzforgalmi | E9: pénzforgalmi | F9: pénzforgalmi | G9: pénzforgalmi | H9: pénzforgalmi | I9: pénzforgalmi | J9: pénzforgalmi | K9: pénzforgalmi | L9: pénzforgalmi | M9: pénzforgalmi | N9: pénzforgalmi | O9: pénzforgalmi | P9: pénzforgalmi | Q9: vegyes | R9: vegyes | S9: vegyes | T9: vegyes | U9: vegyes | V9: pénzforgalmi | W9: pénzforgalmi | X9: pénzforgalmi | Y9: pénzforgalmi | Z9: pénzforgalmi | AA9: pénzforgalmi | AB9: pénzforgalmi | AC9: pénzforgalmi | AD9: (1) | AE9: (1) | AF9: (1) | AG9: (1) | AH9: (1) | AI9: (1)
A11: T2.FT.S1313 | B11: A.N.@@._Z.S1313._Z._Z.B.F.F.T._Z.XDC._T.S.V.N._T.EDP2 | C11: A hivatalos egyenlegben elszámolt pénzügyi műveletek | D11: -8533 | E11: -5007 | F11: -19093 | G11: -14460 | H11: -14539 | I11: -19235 | J11: -913 | K11: -12803 | L11: -8658 | M11: -7754 | N11: -16985 | O11: -10839 | P11: -25311 | Q11: -16580 | R11: -1019 | S11: 621 | T11: -26302 | U11: 25125 | V11: 8407 | W11: -46790.97 | X11: -6172.7145 | Y11: -11170.097 | Z11: -11314.474 | AA11: -17617 | AB11: -2680 | AC11: -6473.76
A12: T2.F4.S1313 | B12: A.N.@@._Z.S1313._Z.N.A.F.F4.T._Z.XDC._T.S.V.N._T.EDP2 | C12: Hitelműveletek (+/-) | D12: 32879 | E12: 33231 | F12: 35835 | G12: -12362 | H12: -6264 | I12: -5015 | J12: -3188 | K12: -8254 | L12: -7970 | M12: -5101 | N12: -6194 | O12: -5430 | P12: -6547 | Q12: -7434 | R12: -4609 | S12: -1982 | T12: -3140 | U12: 12039 | V12: -1710 | W12: -3192 | X12: -8352.332 | Y12: -7208.0402 | Z12: -22482.775 | AA12: -8391 | AB12: -1763 | AC12: -2305
A13: T2.F5.S1313 | B13: A.N.@@._Z.S1313._Z.N.A.F.F5.T._Z.XDC._T.S.V.N._T.EDP2 | C13: Részvényműveletek (+/-) | D13: -18343 | E13: -20844 | F13: -71207 | G13: 561 | H13: -11680 | I13: -20781 | J13: 738 | K13: -5817 | L13: 1463 | M13: -3914 | N13: -10633 | O13: -7711 | P13: -18207 | Q13: -16270 | R13: 3017 | S13: 1476 | T13: 2360 | U13: 4669 | V13: 8119 | W13: -42401.97 | X13: -952.2955 | Y13: -4922.4968 | Z13: 13095.687 | AA13: -2911 | AB13: 3725 | AC13: -2082.76
A14: T2.OFT.S1313 | B14: A.N.@@._Z.S1313._Z._Z.N.F.FNDX.T._Z.XDC._T.S.V.N._T.EDP2 | C14: Egyéb pénzügyi műveletek (+/-) | D14: -23069 | E14: -17394 | F14: 16279 | G14: -2659 | H14: 3405 | I14: 6561 | J14: 1537 | K14: 1268 | L14: -2151 | M14: 1261 | N14: -158 | O14: 2302 | P14: -557 | Q14: 7124 | R14: 573 | S14: 1127 | T14: -25522 | U14: 8417 | V14: 1998 | W14: -1197 | X14: 3131.913 | Y14: 960.43999 | Z14: -1927.3862 | AA14: -6315 | AB14: -4642 | AC14: -2086
A15: T2.OFTDL.S1313 | B15: A.N.@@._Z.S1313._Z._Z.L.F.FNDL.T._Z.XDC._T.S.V.N._T.EDP2 | C15: ebből: adósság részét képező kötelezettségekkel kapcsolatos műveletek | D15: L | E15: L | F15: L | G15: L | H15: L | I15: L | J15: L | K15: L | L15: L | M15: L | N15: L | O15: L | P15: L | Q15: 0 | R15: 0 | S15: 0 | T15: 0 | U15: 0 | V15: 0 | W15: 0 | X15: 0 | Y15: 0 | Z15: 0 | AA15: 0 | AB15: 0 | AC15: 0
A16: T2.F71K.S1313 | B16: A.N.@@._Z.S1313._Z._Z.N.F.F71K.T._Z.XDC._T.S.V.N._T.EDP2 | C16: ebből: swap ügyletek kamata | D16: M | E16: M | F16: M | G16: M | H16: M | I16: M | J16: M | K16: M | L16: M | M16: M | N16: M | O16: M | P16: M | Q16: M | R16: M | S16: M | T16: M | U16: M | V16: M | W16: M | X16: M | Y16: M | Z16: M | AA16: M | AB16: M | AC16: M
A17: T2.OFT1.S1313 | B17: A.N.@@._Z.S1313._Z._Z.N.F.FNDX.T._Z.XDC._T.S.V.N.C01.EDP2 | C17: Rövid lejáratú kötvények vásárlása és eladása | E17: -17929 | F17: 15950 | AJ17: 1996-ban és 1997-ben az államháztartási egyenleg rövid lejáratú kötvények eladását és vásárlását tartalmazta
A18: T2.OFT2.S1313 | B18: A.N.@@._Z.S1313._Z._Z.N.F.FNDX.T._Z.XDC._T.S.V.N.C02.EDP2 | C18: Részletező sor 2
A20: T2.ONFT.S1313 | B20: A.N.@@._Z.S1313._Z._Z.B.ORNF._Z.T._Z.XDC._T.S.V.N._T.EDP2 | C20: A hivatalos egyenlegben nem szereplő nem pénzügyi műveletek | D20: M | E20: M | F20: M | G20: M | H20: M | I20: M | J20: M | K20: M | L20: M | M20: M | N20: M | O20: M | P20: M | Q20: M | R20: M | S20: M | T20: M | U20: M | V20: M | W20: M | X20: 50.263 | Y20: 192.09666 | Z20: 0 | AA20: 0 | AB20: M | AC20: M
A21: T2.ONFT1.S1313 | B21: A.N.@@._Z.S1313._Z._Z.B.ORNF._Z.T._Z.XDC._T.S.V.N.C01.EDP2 | C21: Részletező sor 1 | X21: 50.263 | Y21: 192.09666 | Z21: 0 | AA21: 0 | AB21: M | AC21: M
A22: T2.ONFT2.S1313 | B22: A.N.@@._Z.S1313._Z._Z.B.ORNF._Z.T._Z.XDC._T.S.V.N.C02.EDP2 | C22: Részletező sor 2
